BEGIN:VCALENDAR
VERSION:2.0
PRODID:EVENTFROG//EVENTGROUP//ICAL
BEGIN:VEVENT
UID:20260424T083305Z-7451752072611915122@eventfrog.at
DTSTAMP:20260424T083305Z
DTSTART:20260507T170000Z
SUMMARY:Jamsession Big Bubu Bazooka
DESCRIPTION:Offen für alle.\n\nhttps://eventfrog.at/de/p/konzerte/jamsession-big-bubu-bazooka-7451752072611915122.html
LOCATION:CUADRO22
GEO:46.851816;9.513536
URL:https://eventfrog.at/de/p/konzerte/jamsession-big-bubu-bazooka-7451752072611915122.html
END:VEVENT
END:VCALENDAR