BEGIN:VCALENDAR
VERSION:2.0
PRODID:EVENTFROG//EVENTGROUP//ICAL
BEGIN:VEVENT
UID:20260422T184235Z-7451748312074464712@eventfrog.at
DTSTAMP:20260422T184235Z
DTSTART:20260509T133000Z
SUMMARY:Billie Eilish – Hit Me Hard and Soft: The Tour
DESCRIPTION:3D Konzerterlebnis der Welttournee.\n\nhttps://eventfrog.at/de/p/freizeit-ausfluege/billie-eilish-hit-me-hard-and-soft-the-tour-7451748312074464712.html
LOCATION:Cinewil
GEO:47.463280;9.041600
URL:https://eventfrog.at/de/p/freizeit-ausfluege/billie-eilish-hit-me-hard-and-soft-the-tour-7451748312074464712.html
END:VEVENT
BEGIN:VEVENT
UID:20260422T184235Z-7451748312414203339@eventfrog.at
DTSTAMP:20260422T184235Z
DTSTART:20260510T133000Z
SUMMARY:Billie Eilish – Hit Me Hard and Soft: The Tour
DESCRIPTION:3D Konzerterlebnis der Welttournee.\n\nhttps://eventfrog.at/de/p/freizeit-ausfluege/billie-eilish-hit-me-hard-and-soft-the-tour-7451748312414203339.html
LOCATION:Cinewil
GEO:47.463280;9.041600
URL:https://eventfrog.at/de/p/freizeit-ausfluege/billie-eilish-hit-me-hard-and-soft-the-tour-7451748312414203339.html
END:VEVENT
BEGIN:VEVENT
UID:20260422T184235Z-7451748312586169804@eventfrog.at
DTSTAMP:20260422T184235Z
DTSTART:20260510T183000Z
SUMMARY:Billie Eilish – Hit Me Hard and Soft: The Tour
DESCRIPTION:3D Konzerterlebnis der Welttournee.\n\nhttps://eventfrog.at/de/p/freizeit-ausfluege/billie-eilish-hit-me-hard-and-soft-the-tour-7451748312586169804.html
LOCATION:Cinewil
GEO:47.463280;9.041600
URL:https://eventfrog.at/de/p/freizeit-ausfluege/billie-eilish-hit-me-hard-and-soft-the-tour-7451748312586169804.html
END:VEVENT
BEGIN:VEVENT
UID:20260422T184235Z-7451748312753941966@eventfrog.at
DTSTAMP:20260422T184235Z
DTSTART:20260511T183000Z
SUMMARY:Billie Eilish – Hit Me Hard and Soft: The Tour
DESCRIPTION:3D Konzerterlebnis der Welttournee.\n\nhttps://eventfrog.at/de/p/freizeit-ausfluege/billie-eilish-hit-me-hard-and-soft-the-tour-7451748312753941966.html
LOCATION:Cinewil
GEO:47.463280;9.041600
URL:https://eventfrog.at/de/p/freizeit-ausfluege/billie-eilish-hit-me-hard-and-soft-the-tour-7451748312753941966.html
END:VEVENT
BEGIN:VEVENT
UID:20260422T184235Z-7451748312925908431@eventfrog.at
DTSTAMP:20260422T184235Z
DTSTART:20260513T133000Z
SUMMARY:Billie Eilish – Hit Me Hard and Soft: The Tour
DESCRIPTION:3D Konzerterlebnis der Welttournee.\n\nhttps://eventfrog.at/de/p/freizeit-ausfluege/billie-eilish-hit-me-hard-and-soft-the-tour-7451748312925908431.html
LOCATION:Cinewil
GEO:47.463280;9.041600
URL:https://eventfrog.at/de/p/freizeit-ausfluege/billie-eilish-hit-me-hard-and-soft-the-tour-7451748312925908431.html
END:VEVENT
END:VCALENDAR