BEGIN:VCALENDAR
VERSION:2.0
PRODID:EVENTFROG//EVENTGROUP//ICAL
BEGIN:VEVENT
UID:20260424T190138Z-7451748252465007465@eventfrog.at
DTSTAMP:20260424T190138Z
DTSTART:20260502T140000Z
SUMMARY:Kinderdisco
DESCRIPTION:Tanzen, Sirup, Emotionen!\n\nhttps://eventfrog.at/de/p/partys/kinderdisco-7451748252465007465.html
LOCATION:Kammgarn
GEO:47.695890;8.638049
URL:https://eventfrog.at/de/p/partys/kinderdisco-7451748252465007465.html
END:VEVENT
END:VCALENDAR