BEGIN:VCALENDAR
VERSION:2.0
PRODID:EVENTFROG//EVENTGROUP//ICAL
BEGIN:VEVENT
UID:20260420T053841Z-7451384326183221673@eventfrog.at
DTSTAMP:20260420T053841Z
DTSTART:20260503T080000Z
SUMMARY:Dauerausstellung und Jüdisches Viertel
DESCRIPTION:Führung.\n\nhttps://eventfrog.at/de/p/wissenschaft-und-technik/dauerausstellung-und-juedisches-viertel-7451384326183221673.html
LOCATION:Jüdisches Museum
GEO:47.364721;9.688902
URL:https://eventfrog.at/de/p/wissenschaft-und-technik/dauerausstellung-und-juedisches-viertel-7451384326183221673.html
END:VEVENT
BEGIN:VEVENT
UID:20260420T053841Z-7451384326367771051@eventfrog.at
DTSTAMP:20260420T053841Z
DTSTART:20260510T083000Z
SUMMARY:Dauerausstellung und Jüdisches Viertel
DESCRIPTION:Führung.\n\nhttps://eventfrog.at/de/p/wissenschaft-und-technik/dauerausstellung-und-juedisches-viertel-7451384326367771051.html
LOCATION:Jüdisches Museum
GEO:47.364721;9.688902
URL:https://eventfrog.at/de/p/wissenschaft-und-technik/dauerausstellung-und-juedisches-viertel-7451384326367771051.html
END:VEVENT
BEGIN:VEVENT
UID:20260420T053841Z-7451384326543931820@eventfrog.at
DTSTAMP:20260420T053841Z
DTSTART:20260523T093000Z
SUMMARY:Dauerausstellung und Jüdisches Viertel
DESCRIPTION:Führung.\n\nhttps://eventfrog.at/de/p/wissenschaft-und-technik/dauerausstellung-und-juedisches-viertel-7451384326543931820.html
LOCATION:Jüdisches Museum
GEO:47.364721;9.688902
URL:https://eventfrog.at/de/p/wissenschaft-und-technik/dauerausstellung-und-juedisches-viertel-7451384326543931820.html
END:VEVENT
BEGIN:VEVENT
UID:20260420T053841Z-7451384326720092590@eventfrog.at
DTSTAMP:20260420T053841Z
DTSTART:20260524T080000Z
SUMMARY:Dauerausstellung und Jüdisches Viertel
DESCRIPTION:Führung.\n\nhttps://eventfrog.at/de/p/wissenschaft-und-technik/dauerausstellung-und-juedisches-viertel-7451384326720092590.html
LOCATION:Jüdisches Museum
GEO:47.364721;9.688902
URL:https://eventfrog.at/de/p/wissenschaft-und-technik/dauerausstellung-und-juedisches-viertel-7451384326720092590.html
END:VEVENT
BEGIN:VEVENT
UID:20260420T053841Z-7451384326007060904@eventfrog.at
DTSTAMP:20260420T053841Z
DTSTART:20260531T080000Z
SUMMARY:Dauerausstellung und Jüdisches Viertel
DESCRIPTION:Führung.\n\nhttps://eventfrog.at/de/p/wissenschaft-und-technik/dauerausstellung-und-juedisches-viertel-7451384326007060904.html
LOCATION:Jüdisches Museum
GEO:47.364721;9.688902
URL:https://eventfrog.at/de/p/wissenschaft-und-technik/dauerausstellung-und-juedisches-viertel-7451384326007060904.html
END:VEVENT
END:VCALENDAR