BEGIN:VCALENDAR
VERSION:2.0
PRODID:EVENTFROG//EVENTGROUP//ICAL
BEGIN:VEVENT
UID:20260424T072659Z-7451636312728174089@eventfrog.at
DTSTAMP:20260424T072659Z
DTSTART:20260503T073000Z
DTEND:20260503T084500Z
SUMMARY:Lu Jong am Sonntag - Meditation in Bewegung & Morgen-Apéro
DESCRIPTION:Lu Jong verbindet sanfte Bewegungen und Atmung zur Förderung von Wohlbefinden und innerer Balance für alle Altersgruppen.\n\nhttps://eventfrog.at/de/p/gesundheit-spiritualitaet/gesundheit-wohlbefinden/lu-jong-am-sonntag-meditation-in-bewegung-morgen-apero-7451636312728174089.html
LOCATION:yoga grenzenlos
GEO:47.654079;9.173242
URL:https://eventfrog.at/de/p/gesundheit-spiritualitaet/gesundheit-wohlbefinden/lu-jong-am-sonntag-meditation-in-bewegung-morgen-apero-7451636312728174089.html
END:VEVENT
BEGIN:VEVENT
UID:20260424T072659Z-7451636902262766450@eventfrog.at
DTSTAMP:20260424T072659Z
DTSTART:20260628T073000Z
DTEND:20260628T084500Z
SUMMARY:Lu Jong am Sonntag - Meditation in Bewegung
DESCRIPTION:Lu Jong verbindet sanfte Bewegungen und Atmung zur Förderung von Wohlbefinden und innerer Balance für alle Altersgruppen.\n\nhttps://eventfrog.at/de/p/gesundheit-spiritualitaet/gesundheit-wohlbefinden/lu-jong-am-sonntag-meditation-in-bewegung-7451636902262766450.html
LOCATION:yoga grenzenlos
GEO:47.654079;9.173242
URL:https://eventfrog.at/de/p/gesundheit-spiritualitaet/gesundheit-wohlbefinden/lu-jong-am-sonntag-meditation-in-bewegung-7451636902262766450.html
END:VEVENT
BEGIN:VEVENT
UID:20260424T072659Z-7451636902497648123@eventfrog.at
DTSTAMP:20260424T072659Z
DTSTART:20260802T073000Z
DTEND:20260802T084500Z
SUMMARY:Lu Jong am Sonntag - Meditation in Bewegung
DESCRIPTION:Lu Jong verbindet sanfte Bewegungen und Atmung zur Förderung von Wohlbefinden und innerer Balance für alle Altersgruppen.\n\nhttps://eventfrog.at/de/p/gesundheit-spiritualitaet/gesundheit-wohlbefinden/lu-jong-am-sonntag-meditation-in-bewegung-7451636902497648123.html
LOCATION:yoga grenzenlos
GEO:47.654079;9.173242
URL:https://eventfrog.at/de/p/gesundheit-spiritualitaet/gesundheit-wohlbefinden/lu-jong-am-sonntag-meditation-in-bewegung-7451636902497648123.html
END:VEVENT
BEGIN:VEVENT
UID:20260424T072659Z-7451636902631865915@eventfrog.at
DTSTAMP:20260424T072659Z
DTSTART:20260906T073000Z
DTEND:20260906T084500Z
SUMMARY:Lu Jong am Sonntag - Meditation in Bewegung
DESCRIPTION:Lu Jong verbindet sanfte Bewegungen und Atmung zur Förderung von Wohlbefinden und innerer Balance für alle Altersgruppen.\n\nhttps://eventfrog.at/de/p/gesundheit-spiritualitaet/gesundheit-wohlbefinden/lu-jong-am-sonntag-meditation-in-bewegung-7451636902631865915.html
LOCATION:yoga grenzenlos
GEO:47.654079;9.173242
URL:https://eventfrog.at/de/p/gesundheit-spiritualitaet/gesundheit-wohlbefinden/lu-jong-am-sonntag-meditation-in-bewegung-7451636902631865915.html
END:VEVENT
BEGIN:VEVENT
UID:20260424T072659Z-7451636902761889386@eventfrog.at
DTSTAMP:20260424T072659Z
DTSTART:20261011T073000Z
DTEND:20261011T084500Z
SUMMARY:Lu Jong am Sonntag - Meditation in Bewegung
DESCRIPTION:Lu Jong verbindet sanfte Bewegungen und Atmung zur Förderung von Wohlbefinden und innerer Balance für alle Altersgruppen.\n\nhttps://eventfrog.at/de/p/gesundheit-spiritualitaet/gesundheit-wohlbefinden/lu-jong-am-sonntag-meditation-in-bewegung-7451636902761889386.html
LOCATION:yoga grenzenlos
GEO:47.654079;9.173242
URL:https://eventfrog.at/de/p/gesundheit-spiritualitaet/gesundheit-wohlbefinden/lu-jong-am-sonntag-meditation-in-bewegung-7451636902761889386.html
END:VEVENT
BEGIN:VEVENT
UID:20260424T072659Z-7451636902917078737@eventfrog.at
DTSTAMP:20260424T072659Z
DTSTART:20261101T083000Z
DTEND:20261101T094500Z
SUMMARY:Lu Jong am Sonntag - Meditation in Bewegung
DESCRIPTION:Lu Jong verbindet sanfte Bewegungen und Atmung zur Förderung von Wohlbefinden und innerer Balance für alle Altersgruppen.\n\nhttps://eventfrog.at/de/p/gesundheit-spiritualitaet/gesundheit-wohlbefinden/lu-jong-am-sonntag-meditation-in-bewegung-7451636902917078737.html
LOCATION:yoga grenzenlos
GEO:47.654079;9.173242
URL:https://eventfrog.at/de/p/gesundheit-spiritualitaet/gesundheit-wohlbefinden/lu-jong-am-sonntag-meditation-in-bewegung-7451636902917078737.html
END:VEVENT
BEGIN:VEVENT
UID:20260424T072659Z-7451636903084850918@eventfrog.at
DTSTAMP:20260424T072659Z
DTSTART:20261206T083000Z
DTEND:20261206T094500Z
SUMMARY:Lu Jong am Sonntag - Meditation in Bewegung
DESCRIPTION:Lu Jong verbindet sanfte Bewegungen und Atmung zur Förderung von Wohlbefinden und innerer Balance für alle Altersgruppen.\n\nhttps://eventfrog.at/de/p/gesundheit-spiritualitaet/gesundheit-wohlbefinden/lu-jong-am-sonntag-meditation-in-bewegung-7451636903084850918.html
LOCATION:yoga grenzenlos
GEO:47.654079;9.173242
URL:https://eventfrog.at/de/p/gesundheit-spiritualitaet/gesundheit-wohlbefinden/lu-jong-am-sonntag-meditation-in-bewegung-7451636903084850918.html
END:VEVENT
END:VCALENDAR