BEGIN:VCALENDAR
VERSION:2.0
PRODID:EVENTFROG//EVENTGROUP//ICAL
BEGIN:VEVENT
UID:20260424T085022Z-7451631119403906947@eventfrog.at
DTSTAMP:20260424T085022Z
DTSTART:20260503T080000Z
DTEND:20260503T100000Z
SUMMARY:Wasser - gefasst und verteilt
DESCRIPTION:Das Ortsmuseum zeigt vielseitig das Thema «Wasserversorgung», geöffnet von 10 bis 12 Uhr mit freiem Eintritt und Kaffeestube.\n\nhttps://eventfrog.at/de/p/kunst-ausstellungen/ausstellung/wasser-gefasst-und-verteilt-7451631119403906947.html
LOCATION:Ortsmuseum Untersiggenthal
GEO:47.499675;8.264038
URL:https://eventfrog.at/de/p/kunst-ausstellungen/ausstellung/wasser-gefasst-und-verteilt-7451631119403906947.html
END:VEVENT
BEGIN:VEVENT
UID:20260424T085022Z-7451631154883526313@eventfrog.at
DTSTAMP:20260424T085022Z
DTSTART:20260607T080000Z
DTEND:20260607T100000Z
SUMMARY:Wasser - gefasst und verteilt
DESCRIPTION:Das Ortsmuseum zeigt vielseitig das Thema «Wasserversorgung», geöffnet von 10 bis 12 Uhr mit freiem Eintritt und Kaffeestube.\n\nhttps://eventfrog.at/de/p/kunst-ausstellungen/ausstellung/wasser-gefasst-und-verteilt-7451631154883526313.html
LOCATION:Ortsmuseum Untersiggenthal
GEO:47.499675;8.264038
URL:https://eventfrog.at/de/p/kunst-ausstellungen/ausstellung/wasser-gefasst-und-verteilt-7451631154883526313.html
END:VEVENT
BEGIN:VEVENT
UID:20260424T085022Z-7451631155118342427@eventfrog.at
DTSTAMP:20260424T085022Z
DTSTART:20260705T080000Z
DTEND:20260705T100000Z
SUMMARY:Wasser - gefasst und verteilt
DESCRIPTION:Das Ortsmuseum zeigt vielseitig das Thema «Wasserversorgung», geöffnet von 10 bis 12 Uhr mit freiem Eintritt und Kaffeestube.\n\nhttps://eventfrog.at/de/p/kunst-ausstellungen/ausstellung/wasser-gefasst-und-verteilt-7451631155118342427.html
LOCATION:Ortsmuseum Untersiggenthal
GEO:47.499675;8.264038
URL:https://eventfrog.at/de/p/kunst-ausstellungen/ausstellung/wasser-gefasst-und-verteilt-7451631155118342427.html
END:VEVENT
BEGIN:VEVENT
UID:20260424T085022Z-7451631155235782970@eventfrog.at
DTSTAMP:20260424T085022Z
DTSTART:20260802T080000Z
DTEND:20260802T100000Z
SUMMARY:Wasser - gefasst und verteilt
DESCRIPTION:Das Ortsmuseum zeigt vielseitig das Thema «Wasserversorgung», geöffnet von 10 bis 12 Uhr mit freiem Eintritt und Kaffeestube.\n\nhttps://eventfrog.at/de/p/kunst-ausstellungen/ausstellung/wasser-gefasst-und-verteilt-7451631155235782970.html
LOCATION:Ortsmuseum Untersiggenthal
GEO:47.499675;8.264038
URL:https://eventfrog.at/de/p/kunst-ausstellungen/ausstellung/wasser-gefasst-und-verteilt-7451631155235782970.html
END:VEVENT
BEGIN:VEVENT
UID:20260424T085022Z-7451631155395166585@eventfrog.at
DTSTAMP:20260424T085022Z
DTSTART:20260906T080000Z
DTEND:20260906T100000Z
SUMMARY:Wasser - gefasst und verteilt
DESCRIPTION:Das Ortsmuseum zeigt vielseitig das Thema «Wasserversorgung», geöffnet von 10 bis 12 Uhr mit freiem Eintritt und Kaffeestube.\n\nhttps://eventfrog.at/de/p/kunst-ausstellungen/ausstellung/wasser-gefasst-und-verteilt-7451631155395166585.html
LOCATION:Ortsmuseum Untersiggenthal
GEO:47.499675;8.264038
URL:https://eventfrog.at/de/p/kunst-ausstellungen/ausstellung/wasser-gefasst-und-verteilt-7451631155395166585.html
END:VEVENT
BEGIN:VEVENT
UID:20260424T085022Z-7451631155558744456@eventfrog.at
DTSTAMP:20260424T085022Z
DTSTART:20261004T080000Z
DTEND:20261004T100000Z
SUMMARY:Wasser - gefasst und verteilt
DESCRIPTION:Das Ortsmuseum zeigt vielseitig das Thema «Wasserversorgung», geöffnet von 10 bis 12 Uhr mit freiem Eintritt und Kaffeestube.\n\nhttps://eventfrog.at/de/p/kunst-ausstellungen/ausstellung/wasser-gefasst-und-verteilt-7451631155558744456.html
LOCATION:Ortsmuseum Untersiggenthal
GEO:47.499675;8.264038
URL:https://eventfrog.at/de/p/kunst-ausstellungen/ausstellung/wasser-gefasst-und-verteilt-7451631155558744456.html
END:VEVENT
BEGIN:VEVENT
UID:20260424T085022Z-7451631155722322314@eventfrog.at
DTSTAMP:20260424T085022Z
DTSTART:20261101T090000Z
DTEND:20261101T110000Z
SUMMARY:Wasser - gefasst und verteilt
DESCRIPTION:Das Ortsmuseum zeigt vielseitig das Thema «Wasserversorgung», geöffnet von 10 bis 12 Uhr mit freiem Eintritt und Kaffeestube.\n\nhttps://eventfrog.at/de/p/kunst-ausstellungen/ausstellung/wasser-gefasst-und-verteilt-7451631155722322314.html
LOCATION:Ortsmuseum Untersiggenthal
GEO:47.499675;8.264038
URL:https://eventfrog.at/de/p/kunst-ausstellungen/ausstellung/wasser-gefasst-und-verteilt-7451631155722322314.html
END:VEVENT
BEGIN:VEVENT
UID:20260424T085022Z-7451631155881705961@eventfrog.at
DTSTAMP:20260424T085022Z
DTSTART:20261206T090000Z
DTEND:20261206T110000Z
SUMMARY:Wasser - gefasst und verteilt
DESCRIPTION:Das Ortsmuseum zeigt vielseitig das Thema «Wasserversorgung», geöffnet von 10 bis 12 Uhr mit freiem Eintritt und Kaffeestube.\n\nhttps://eventfrog.at/de/p/kunst-ausstellungen/ausstellung/wasser-gefasst-und-verteilt-7451631155881705961.html
LOCATION:Ortsmuseum Untersiggenthal
GEO:47.499675;8.264038
URL:https://eventfrog.at/de/p/kunst-ausstellungen/ausstellung/wasser-gefasst-und-verteilt-7451631155881705961.html
END:VEVENT
END:VCALENDAR