BEGIN:VCALENDAR
VERSION:2.0
PRODID:EVENTFROG//EVENTGROUP//ICAL
BEGIN:VEVENT
UID:20260424T072715Z-7451627967292115555@eventfrog.at
DTSTAMP:20260424T072715Z
DTSTART:20260531T143000Z
DTEND:20260531T153000Z
SUMMARY:Concert sénégalais
DESCRIPTION:Nach einem Ataya-Tee-Apéro um 16:30 Uhr startet das einzigartige senegalesische Konzert mit wundervollen Gesängen und Rhythmen. Specialgues: Tanzcrew von der Tanzschule "Tanzwerk" Basel\n\nhttps://eventfrog.at/de/p/konzerte/weitere-musikrichtungen/concert-senegalais-7451627967292115555.html
LOCATION:Caminito
GEO:47.541476;7.592993
URL:https://eventfrog.at/de/p/konzerte/weitere-musikrichtungen/concert-senegalais-7451627967292115555.html
END:VEVENT
BEGIN:VEVENT
UID:20260424T072715Z-7451627185545171287@eventfrog.at
DTSTAMP:20260424T072715Z
DTSTART:20260531T160000Z
DTEND:20260531T173000Z
SUMMARY:Concert sénégalais
DESCRIPTION:Nach einem Ataya-Tee-Apéro um 16:30 Uhr startet das einzigartige senegalesische Konzert mit wundervollen Gesängen und Rhythmen. Specialgues: Tanzcrew von der Tanzschule "Tanzwerk" Basel\n\nhttps://eventfrog.at/de/p/konzerte/weitere-musikrichtungen/concert-senegalais-7451627185545171287.html
LOCATION:Caminito
GEO:47.541476;7.592993
URL:https://eventfrog.at/de/p/konzerte/weitere-musikrichtungen/concert-senegalais-7451627185545171287.html
END:VEVENT
END:VCALENDAR