BEGIN:VCALENDAR
VERSION:2.0
PRODID:EVENTFROG//EVENTGROUP//ICAL
BEGIN:VEVENT
UID:20260422T022857Z-7451621998763967856@eventfrog.at
DTSTAMP:20260422T022857Z
DTSTART:20260424T173000Z
DTEND:20260424T200000Z
SUMMARY:Ecstatic Dance
DESCRIPTION:Spürst du den Ruf der Musik?\n\nWir bewegen uns leicht, verspielt, wild & ungehemmt zu einer elektronischen Musikreise.\n\nIn Vorfreude auf die Bewegung, ekstatische Momente auf das Miteinander.\n\nhttps://eventfrog.at/de/p/partys/trance-ambient/ecstatic-dance-7451621998763967856.html
LOCATION:Dance Passion
GEO:46.939948;7.445486
URL:https://eventfrog.at/de/p/partys/trance-ambient/ecstatic-dance-7451621998763967856.html
END:VEVENT
BEGIN:VEVENT
UID:20260422T022857Z-7451622387039106181@eventfrog.at
DTSTAMP:20260422T022857Z
DTSTART:20260508T173000Z
DTEND:20260508T200000Z
SUMMARY:Ecstatic Dance
DESCRIPTION:Spürst du den Ruf der Musik?\n\nWir bewegen uns leicht, verspielt, wild & ungehemmt zu einer elektronischen Musikreise.\n\nIn Vorfreude auf die Bewegung, ekstatische Momente auf das Miteinander.\n\nhttps://eventfrog.at/de/p/partys/trance-ambient/ecstatic-dance-7451622387039106181.html
LOCATION:Dance Passion
GEO:46.939948;7.445486
URL:https://eventfrog.at/de/p/partys/trance-ambient/ecstatic-dance-7451622387039106181.html
END:VEVENT
BEGIN:VEVENT
UID:20260422T022857Z-7451622387232044742@eventfrog.at
DTSTAMP:20260422T022857Z
DTSTART:20260522T173000Z
DTEND:20260522T200000Z
SUMMARY:Ecstatic Dance
DESCRIPTION:Spürst du den Ruf der Musik?\n\nWir bewegen uns leicht, verspielt, wild & ungehemmt zu einer elektronischen Musikreise.\n\nIn Vorfreude auf die Bewegung, ekstatische Momente auf das Miteinander.\n\nhttps://eventfrog.at/de/p/partys/trance-ambient/ecstatic-dance-7451622387232044742.html
LOCATION:Dance Passion
GEO:46.939948;7.445486
URL:https://eventfrog.at/de/p/partys/trance-ambient/ecstatic-dance-7451622387232044742.html
END:VEVENT
END:VCALENDAR