BEGIN:VCALENDAR
VERSION:2.0
PRODID:EVENTFROG//EVENTGROUP//ICAL
BEGIN:VEVENT
UID:20260421T180603Z-7441388991390207244@eventfrog.at
DTSTAMP:20260421T180603Z
DTSTART:20260516T170000Z
DTEND:20260516T210000Z
SUMMARY:Das perfekte Schlager Dinner Bremen – Live Show & Musik
DESCRIPTION:Das perfekte Schlager Dinner in Bremen: Interaktive Dinnershow mit Live-Musik, den größten Schlagerhits, Vier-Gang-Menü und Getränkepauschale. Mitsingen, mitfeiern und genießen!\n\nhttps://eventfrog.at/de/p/konzerte/pop-rock/das-perfekte-schlager-dinner-bremen-live-show-musik-7441388991390207244.html
LOCATION:Ratskeller Bremen
GEO:53.075315;8.805399
URL:https://eventfrog.at/de/p/konzerte/pop-rock/das-perfekte-schlager-dinner-bremen-live-show-musik-7441388991390207244.html
END:VEVENT
BEGIN:VEVENT
UID:20260421T180603Z-7441393448542815388@eventfrog.at
DTSTAMP:20260421T180603Z
DTSTART:20260606T170000Z
DTEND:20260606T210000Z
SUMMARY:Das perfekte Schlager Dinner Aalen –  Live Show & Musik
DESCRIPTION:Schlager Dinner\nAalen Event\nDinnershow\nLive Musik\nSchlager Show\n\nhttps://eventfrog.at/de/p/konzerte/pop-rock/das-perfekte-schlager-dinner-aalen-live-show-musik-7441393448542815388.html
LOCATION:Hotel Das Goldene Lamm
GEO:48.817640;10.127030
URL:https://eventfrog.at/de/p/konzerte/pop-rock/das-perfekte-schlager-dinner-aalen-live-show-musik-7441393448542815388.html
END:VEVENT
BEGIN:VEVENT
UID:20260421T180603Z-7441395070341750551@eventfrog.at
DTSTAMP:20260421T180603Z
DTSTART:20260612T170000Z
DTEND:20260612T210000Z
SUMMARY:Das perfekte Schlager Dinner Wesel – Live Show & Musik
DESCRIPTION:Das perfekte Schlager Dinner in Wesel: Interaktive Dinnershow mit Live-Musik, den größten Schlagerhits und Mehrgangmenü. Mitsingen, mitfeiern und genießen!\n\nhttps://eventfrog.at/de/p/konzerte/pop-rock/das-perfekte-schlager-dinner-wesel-live-show-musik-7441395070341750551.html
LOCATION:Welcome Hotel Gelsenkirchen
GEO:51.557631;7.067750
URL:https://eventfrog.at/de/p/konzerte/pop-rock/das-perfekte-schlager-dinner-wesel-live-show-musik-7441395070341750551.html
END:VEVENT
BEGIN:VEVENT
UID:20260421T180603Z-7441397517697208660@eventfrog.at
DTSTAMP:20260421T180603Z
DTSTART:20260919T170000Z
DTEND:20260919T210000Z
SUMMARY:Das perfekte Schlager Dinner Bremen – Live Show & Musik
DESCRIPTION:Das perfekte Schlager Dinner in Bremen: Interaktive Dinnershow mit Live-Musik, den größten Schlagerhits, Vier-Gang-Menü und Getränkepauschale. Mitsingen, mitfeiern und genießen!\n\nhttps://eventfrog.at/de/p/konzerte/pop-rock/das-perfekte-schlager-dinner-bremen-live-show-musik-7441397517697208660.html
LOCATION:Ratskeller Bremen
GEO:53.075315;8.805399
URL:https://eventfrog.at/de/p/konzerte/pop-rock/das-perfekte-schlager-dinner-bremen-live-show-musik-7441397517697208660.html
END:VEVENT
BEGIN:VEVENT
UID:20260421T180603Z-7441398200596975267@eventfrog.at
DTSTAMP:20260421T180603Z
DTSTART:20260925T170000Z
DTEND:20260925T210000Z
SUMMARY:Das perfekte Schlager Dinner Saarlouis – Live Show & Musik
DESCRIPTION:Das perfekte Schlager Dinner in Saarlouis: Interaktive Dinnershow mit Live-Musik, den größten Schlagerhits und Mehrgangmenü. Mitsingen, mitfeiern und genießen!\n\nhttps://eventfrog.at/de/p/konzerte/pop-rock/das-perfekte-schlager-dinner-saarlouis-live-show-musik-7441398200596975267.html
LOCATION:The Club Victor's Eventlocation gegenüber dem Victor's Residenz-Hotel Saarlouis
GEO:49.326503;6.748597
URL:https://eventfrog.at/de/p/konzerte/pop-rock/das-perfekte-schlager-dinner-saarlouis-live-show-musik-7441398200596975267.html
END:VEVENT
BEGIN:VEVENT
UID:20260421T180603Z-7441399747535992646@eventfrog.at
DTSTAMP:20260421T180603Z
DTSTART:20261009T170000Z
DTEND:20261009T210000Z
SUMMARY:Das perfekte Schlager Dinner Thurnau – Live Show & Musik
DESCRIPTION:Das perfekte Schlager Dinner in Thurnau: Interaktive Dinnershow mit Live-Musik, den größten Schlagerhits und Mehrgangmenü. Mitsingen, mitfeiern und genießen!\n\nhttps://eventfrog.at/de/p/konzerte/pop-rock/das-perfekte-schlager-dinner-thurnau-live-show-musik-7441399747535992646.html
LOCATION:Schloss Thurnau
GEO:50.024621;11.396028
URL:https://eventfrog.at/de/p/konzerte/pop-rock/das-perfekte-schlager-dinner-thurnau-live-show-musik-7441399747535992646.html
END:VEVENT
BEGIN:VEVENT
UID:20260421T180603Z-7441401290658214884@eventfrog.at
DTSTAMP:20260421T180603Z
DTSTART:20261016T170000Z
DTEND:20261016T210000Z
SUMMARY:Das perfekte Schlager Dinner Moosinning – Live Show & Musik
DESCRIPTION:Das perfekte Schlager Dinner in Moosinning: Interaktive Dinnershow mit Live-Musik, den größten Schlagerhits und Mehrgangmenü. Mitsingen, mitfeiern und genießen!\n\nhttps://eventfrog.at/de/p/konzerte/pop-rock/das-perfekte-schlager-dinner-moosinning-live-show-musik-7441401290658214884.html
LOCATION:Landgasthof Stangl
GEO:48.276939;11.791754
URL:https://eventfrog.at/de/p/konzerte/pop-rock/das-perfekte-schlager-dinner-moosinning-live-show-musik-7441401290658214884.html
END:VEVENT
BEGIN:VEVENT
UID:20260421T180603Z-7441401964028521867@eventfrog.at
DTSTAMP:20260421T180603Z
DTSTART:20261017T170000Z
DTEND:20261017T210000Z
SUMMARY:Das perfekte Schlager Dinner Ludwigsburg – Live Show & Musik
DESCRIPTION:Das perfekte Schlager Dinner in Ludwigsburg: Interaktive Dinnershow mit Live-Musik, den größten Schlagerhits und Mehrgangmenü. Mitsingen, mitfeiern und genießen!\n\nhttps://eventfrog.at/de/p/konzerte/pop-rock/das-perfekte-schlager-dinner-ludwigsburg-live-show-musik-7441401964028521867.html
LOCATION:Ratskeller
GEO:48.896181;9.188479
URL:https://eventfrog.at/de/p/konzerte/pop-rock/das-perfekte-schlager-dinner-ludwigsburg-live-show-musik-7441401964028521867.html
END:VEVENT
BEGIN:VEVENT
UID:20260421T180603Z-7441402812213293378@eventfrog.at
DTSTAMP:20260421T180603Z
DTSTART:20261023T170000Z
DTEND:20261023T210000Z
SUMMARY:Das perfekte Schlager Dinner Gedern – Live Show & Musik
DESCRIPTION:Das perfekte Schlager Dinner in Gedern: Interaktive Dinnershow mit Live-Musik, den größten Schlagerhits und Mehrgangmenü. Mitsingen, mitfeiern und genießen!\n\nhttps://eventfrog.at/de/p/konzerte/pop-rock/das-perfekte-schlager-dinner-gedern-live-show-musik-7441402812213293378.html
LOCATION:Schlosshotel Gedern
GEO:50.423345;9.203049
URL:https://eventfrog.at/de/p/konzerte/pop-rock/das-perfekte-schlager-dinner-gedern-live-show-musik-7441402812213293378.html
END:VEVENT
BEGIN:VEVENT
UID:20260421T180603Z-7441403406013448146@eventfrog.at
DTSTAMP:20260421T180603Z
DTSTART:20261030T180000Z
DTEND:20261030T220000Z
SUMMARY:Das perfekte Schlager Dinner Köln – Live Show & Musik
DESCRIPTION:Das perfekte Schlager Dinner in Köln: Interaktive Dinnershow mit Live-Musik, den größten Schlagerhits und Mehrgangmenü. Mitsingen, mitfeiern und genießen!\n\nhttps://eventfrog.at/de/p/konzerte/pop-rock/das-perfekte-schlager-dinner-koeln-live-show-musik-7441403406013448146.html
LOCATION:Eltzhof das KulturGut
GEO:50.856292;7.082216
URL:https://eventfrog.at/de/p/konzerte/pop-rock/das-perfekte-schlager-dinner-koeln-live-show-musik-7441403406013448146.html
END:VEVENT
BEGIN:VEVENT
UID:20260421T180603Z-7441403980188521453@eventfrog.at
DTSTAMP:20260421T180603Z
DTSTART:20261106T180000Z
DTEND:20261106T220000Z
SUMMARY:Das perfekte Schlager Dinner Bexbach – Live Show & Musik
DESCRIPTION:Das perfekte Schlager Dinner in Bexbach: Interaktive Dinnershow mit Live-Musik, den größten Schlagerhits und Mehrgangmenü. Mitsingen, mitfeiern und genießen!\n\nhttps://eventfrog.at/de/p/konzerte/pop-rock/das-perfekte-schlager-dinner-bexbach-live-show-musik-7441403980188521453.html
LOCATION:Hotel Haus Krone
GEO:49.348831;7.260511
URL:https://eventfrog.at/de/p/konzerte/pop-rock/das-perfekte-schlager-dinner-bexbach-live-show-musik-7441403980188521453.html
END:VEVENT
BEGIN:VEVENT
UID:20260421T180603Z-7441404640116092062@eventfrog.at
DTSTAMP:20260421T180603Z
DTSTART:20261107T180000Z
DTEND:20261107T220000Z
SUMMARY:Das perfekte Schlager Dinner Bad Dürkheim – Live Show & Musi
DESCRIPTION:Das perfekte Schlager Dinner in Bad Dürkheim: Interaktive Dinnershow mit Live-Musik, den größten Schlagerhits und Mehrgangmenü. Mitsingen, mitfeiern und genießen!\n\nhttps://eventfrog.at/de/p/konzerte/pop-rock/das-perfekte-schlager-dinner-bad-duerkheim-live-show-musi-7441404640116092062.html
LOCATION:Kurpark-Hotel Bad Dürkheim
GEO:49.463170;8.168460
URL:https://eventfrog.at/de/p/konzerte/pop-rock/das-perfekte-schlager-dinner-bad-duerkheim-live-show-musi-7441404640116092062.html
END:VEVENT
BEGIN:VEVENT
UID:20260421T180603Z-7441405873547641145@eventfrog.at
DTSTAMP:20260421T180603Z
DTSTART:20261113T180000Z
DTEND:20261113T220000Z
SUMMARY:Das perfekte Schlager Dinner Ballenstedt – Live Show & Musik
DESCRIPTION:Das perfekte Schlager Dinner in Ballenstedt: Interaktive Dinnershow mit Live-Musik, den größten Schlagerhits, Mehrgangmenü und Getränkepauschale. Mitsingen, mitfeiern und genießen!\n\nhttps://eventfrog.at/de/p/konzerte/pop-rock/das-perfekte-schlager-dinner-ballenstedt-live-show-musik-7441405873547641145.html
LOCATION:Schloßtheater
GEO:51.717990;11.219765
URL:https://eventfrog.at/de/p/konzerte/pop-rock/das-perfekte-schlager-dinner-ballenstedt-live-show-musik-7441405873547641145.html
END:VEVENT
BEGIN:VEVENT
UID:20260421T180603Z-7441406986585960806@eventfrog.at
DTSTAMP:20260421T180603Z
DTSTART:20261114T180000Z
DTEND:20261114T220000Z
SUMMARY:Das perfekte Schlager Dinner Apolda – Live Show & Musik
DESCRIPTION:Das perfekte Schlager Dinner in Apolda: Interaktive Dinnershow mit Live-Musik, den größten Schlagerhits und Mehrgangmenü. Mitsingen, mitfeiern und genießen!\n\nhttps://eventfrog.at/de/p/konzerte/pop-rock/das-perfekte-schlager-dinner-apolda-live-show-musik-7441406986585960806.html
LOCATION:Hotel am Schloss Apolda
GEO:51.021449;11.514882
URL:https://eventfrog.at/de/p/konzerte/pop-rock/das-perfekte-schlager-dinner-apolda-live-show-musik-7441406986585960806.html
END:VEVENT
BEGIN:VEVENT
UID:20260421T180603Z-7441407828986730716@eventfrog.at
DTSTAMP:20260421T180603Z
DTSTART:20261120T230000Z
SUMMARY:Das perfekte Schlager Dinner Waren (Müritz) – Live Show & Mu
DESCRIPTION:Das perfekte Schlager Dinner in Waren (Müritz): Interaktive Dinnershow mit Live-Musik, den größten Schlagerhits und Menü. Mitsingen, mitfeiern und genießen!\n\nhttps://eventfrog.at/de/p/konzerte/schlager-volksmusik/das-perfekte-schlager-dinner-waren-mueritz-live-show-mu-7441407828986730716.html
LOCATION:Seehotel Ecktannen
GEO:53.500324;12.670292
URL:https://eventfrog.at/de/p/konzerte/schlager-volksmusik/das-perfekte-schlager-dinner-waren-mueritz-live-show-mu-7441407828986730716.html
END:VEVENT
BEGIN:VEVENT
UID:20260421T180603Z-7441409072027421222@eventfrog.at
DTSTAMP:20260421T180603Z
DTSTART:20261122T170000Z
DTEND:20261122T210000Z
SUMMARY:Das perfekte Schlager Dinner Strausberg – Live Show & Musik
DESCRIPTION:Das perfekte Schlager Dinner in Strausberg: Interaktive Dinnershow mit Live-Musik, den größten Schlagerhits und Mehrgangmenü. Mitsingen, mitfeiern und genießen!\n\nhttps://eventfrog.at/de/p/konzerte/schlager-volksmusik/das-perfekte-schlager-dinner-strausberg-live-show-musik-7441409072027421222.html
LOCATION:The Lakeside - Burghotel zu Strausberg
GEO:52.595621;13.892276
URL:https://eventfrog.at/de/p/konzerte/schlager-volksmusik/das-perfekte-schlager-dinner-strausberg-live-show-musik-7441409072027421222.html
END:VEVENT
BEGIN:VEVENT
UID:20260421T180603Z-7441410140702512938@eventfrog.at
DTSTAMP:20260421T180603Z
DTSTART:20261205T180000Z
DTEND:20261205T220000Z
SUMMARY:Das perfekte Schlager Dinner Aalen – Live Show & Musik
DESCRIPTION:Magic Concerts\n\nhttps://eventfrog.at/de/p/konzerte/schlager-volksmusik/das-perfekte-schlager-dinner-aalen-live-show-musik-7441410140702512938.html
LOCATION:Hotel Das Goldene Lamm
GEO:48.817640;10.127030
URL:https://eventfrog.at/de/p/konzerte/schlager-volksmusik/das-perfekte-schlager-dinner-aalen-live-show-musik-7441410140702512938.html
END:VEVENT
BEGIN:VEVENT
UID:20260421T180603Z-7451595887858470069@eventfrog.at
DTSTAMP:20260421T180603Z
DTSTART:20270130T180000Z
DTEND:20270130T220000Z
SUMMARY:Das perfekte Schlager Dinner Tauberbischofsheim – Live Show
DESCRIPTION:Maite Kelly und Fiesta Mexicana begeistern am 30. Januar mit einer interaktiven Schlager-Dinnershow im Hotel DAS BISCHOF.\n\nhttps://eventfrog.at/de/p/konzerte/schlager-volksmusik/das-perfekte-schlager-dinner-tauberbischofsheim-live-show-7451595887858470069.html
LOCATION:Hotel DAS BISCHOF Tauberbischofsheim GmbH
GEO:49.618388;9.653000
URL:https://eventfrog.at/de/p/konzerte/schlager-volksmusik/das-perfekte-schlager-dinner-tauberbischofsheim-live-show-7451595887858470069.html
END:VEVENT
BEGIN:VEVENT
UID:20260421T180603Z-7441458139902274734@eventfrog.at
DTSTAMP:20260421T180603Z
DTSTART:20270205T180000Z
DTEND:20270205T220000Z
SUMMARY:Das perfekte Schlager Dinner Achern – Live Show & Musik
DESCRIPTION:Das perfekte Schlager Dinner in Achern: Humorvolle Dinnershow mit Live-Musik, den größten Schlagerhits und Mehrgangmenü. Mitsingen, lachen und genießen!\n\nhttps://eventfrog.at/de/p/konzerte/schlager-volksmusik/das-perfekte-schlager-dinner-achern-live-show-musik-7441458139902274734.html
LOCATION:SCHECK-IN Kochfabrik
GEO:48.627659;8.054717
URL:https://eventfrog.at/de/p/konzerte/schlager-volksmusik/das-perfekte-schlager-dinner-achern-live-show-musik-7441458139902274734.html
END:VEVENT
BEGIN:VEVENT
UID:20260421T180603Z-7451593823413657083@eventfrog.at
DTSTAMP:20260421T180603Z
DTSTART:20270313T180000Z
DTEND:20270313T220000Z
SUMMARY:Das perfekte Schlager Dinner Starnberg – Live Show & Musik
DESCRIPTION:Maite Kelly und Fiesta Mexicana bieten eine interaktive Dinnershow mit Schlagerhits und Publikumsspielen am 13. März in Starnberg.\n\nhttps://eventfrog.at/de/p/konzerte/schlager-volksmusik/das-perfekte-schlager-dinner-starnberg-live-show-musik-7451593823413657083.html
LOCATION:Hotel Vier Jahreszeiten Starnberg
GEO:48.001815;11.350459
URL:https://eventfrog.at/de/p/konzerte/schlager-volksmusik/das-perfekte-schlager-dinner-starnberg-live-show-musik-7451593823413657083.html
END:VEVENT
BEGIN:VEVENT
UID:20260421T180603Z-7451597441311194701@eventfrog.at
DTSTAMP:20260421T180603Z
DTSTART:20270424T170000Z
DTEND:20270424T210000Z
SUMMARY:Das perfekte Schlager Dinner Ludwigsburg – Live Show & Musik
DESCRIPTION:Maite Kelly und Fiesta Mexicana bieten am 24.4. im Ratskeller Ludwigsburg eine interaktive Schlager-Dinnershow mit Hits von Legenden.\n\nhttps://eventfrog.at/de/p/konzerte/schlager-volksmusik/das-perfekte-schlager-dinner-ludwigsburg-live-show-musik-7451597441311194701.html
LOCATION:ratskeller
GEO:48.896181;9.188479
URL:https://eventfrog.at/de/p/konzerte/schlager-volksmusik/das-perfekte-schlager-dinner-ludwigsburg-live-show-musik-7451597441311194701.html
END:VEVENT
BEGIN:VEVENT
UID:20260421T180603Z-7441459249262116357@eventfrog.at
DTSTAMP:20260421T180603Z
DTSTART:20271008T170000Z
DTEND:20271008T210000Z
SUMMARY:Das perfekte Schlager Dinner Achern – Live Show & Musik
DESCRIPTION:Das perfekte Schlager Dinner in Achern: Humorvolle Dinnershow mit Live-Musik, den größten Schlagerhits und Mehrgangmenü. Mitsingen, lachen und genießen!\n\nhttps://eventfrog.at/de/p/konzerte/schlager-volksmusik/das-perfekte-schlager-dinner-achern-live-show-musik-7441459249262116357.html
LOCATION:SCHECK-IN Kochfabrik
GEO:48.627659;8.054717
URL:https://eventfrog.at/de/p/konzerte/schlager-volksmusik/das-perfekte-schlager-dinner-achern-live-show-musik-7441459249262116357.html
END:VEVENT
BEGIN:VEVENT
UID:20260421T180603Z-7451598440860009920@eventfrog.at
DTSTAMP:20260421T180603Z
DTSTART:20271106T180000Z
DTEND:20271106T220000Z
SUMMARY:Das perfekte Schlager Dinner Starnberg – Live Show & Musik
DESCRIPTION:Das perfekte Schlager Dinner am 6.11. in Starnberg: Interaktive Show mit Maite Kelly, Fiesta Mexicana und Schlagerhits zum Mitsingen.\n\nhttps://eventfrog.at/de/p/konzerte/schlager-volksmusik/das-perfekte-schlager-dinner-starnberg-live-show-musik-7451598440860009920.html
LOCATION:Hotel Vier Jahreszeiten Starnberg
GEO:48.001815;11.350459
URL:https://eventfrog.at/de/p/konzerte/schlager-volksmusik/das-perfekte-schlager-dinner-starnberg-live-show-musik-7451598440860009920.html
END:VEVENT
BEGIN:VEVENT
UID:20260421T180603Z-7451601152183900699@eventfrog.at
DTSTAMP:20260421T180603Z
DTSTART:20271112T180000Z
DTEND:20271112T220000Z
SUMMARY:Das perfekte Schlager Dinner Naumburg – Live Show & Musik
DESCRIPTION:Am 12.11. spielt Fiesta Mexicana in Naumburg live Schlager, Maite Kelly tritt auf und das Publikum singt bei der Dinnershow mit.\n\nhttps://eventfrog.at/de/p/konzerte/schlager-volksmusik/das-perfekte-schlager-dinner-naumburg-live-show-musik-7451601152183900699.html
LOCATION:Hallescher Anger 1
GEO:51.161527;11.828030
URL:https://eventfrog.at/de/p/konzerte/schlager-volksmusik/das-perfekte-schlager-dinner-naumburg-live-show-musik-7451601152183900699.html
END:VEVENT
BEGIN:VEVENT
UID:20260421T180603Z-7451602651219765457@eventfrog.at
DTSTAMP:20260421T180603Z
DTSTART:20271113T180000Z
DTEND:20271113T220000Z
SUMMARY:Das perfekte Schlager Dinner Naumburg – Live Show & Musik
DESCRIPTION:Am 12.11. spielt Fiesta Mexicana in Naumburg live Schlager, Maite Kelly tritt auf und das Publikum singt bei der Dinnershow mit.\n\nhttps://eventfrog.at/de/p/konzerte/schlager-volksmusik/das-perfekte-schlager-dinner-naumburg-live-show-musik-7451602651219765457.html
LOCATION:Hallescher Anger 1
GEO:51.161527;11.828030
URL:https://eventfrog.at/de/p/konzerte/schlager-volksmusik/das-perfekte-schlager-dinner-naumburg-live-show-musik-7451602651219765457.html
END:VEVENT
END:VCALENDAR