BEGIN:VCALENDAR
VERSION:2.0
PRODID:EVENTFROG//EVENTGROUP//ICAL
BEGIN:VEVENT
UID:20260424T214237Z-7451389878590246463@eventfrog.at
DTSTAMP:20260424T214237Z
DTSTART:20260612T180000Z
SUMMARY:Cedric Schild
DESCRIPTION:Cedric Schild\n\nhttps://eventfrog.at/de/p/theater-buehne/cedric-schild-7451389878590246463.html
LOCATION:Casinotheater
GEO:47.499716;8.726641
URL:https://eventfrog.at/de/p/theater-buehne/cedric-schild-7451389878590246463.html
END:VEVENT
BEGIN:VEVENT
UID:20260424T214237Z-7451389880964222549@eventfrog.at
DTSTAMP:20260424T214237Z
DTSTART:20260613T180000Z
SUMMARY:Cedric Schild
DESCRIPTION:Cedric Schild\n\nhttps://eventfrog.at/de/p/theater-buehne/cedric-schild-7451389880964222549.html
LOCATION:Casinotheater
GEO:47.499716;8.726641
URL:https://eventfrog.at/de/p/theater-buehne/cedric-schild-7451389880964222549.html
END:VEVENT
END:VCALENDAR