BEGIN:VCALENDAR
VERSION:2.0
PRODID:EVENTFROG//EVENTGROUP//ICAL
BEGIN:VEVENT
UID:20260423T060841Z-7439803819712598978@eventfrog.at
DTSTAMP:20260423T060841Z
DTSTART:20260425T153000Z
SUMMARY:Walter Lietha – Drum sing i, grad drum
DESCRIPTION:Walter Lietha - Drum sing i, grad drum\n\nhttps://eventfrog.at/de/p/freizeit-ausfluege/walter-lietha-drum-sing-i-grad-drum-7439803819712598978.html
LOCATION:Cinema Luna
GEO:47.558329;8.895727
URL:https://eventfrog.at/de/p/freizeit-ausfluege/walter-lietha-drum-sing-i-grad-drum-7439803819712598978.html
END:VEVENT
BEGIN:VEVENT
UID:20260423T060841Z-7451385554896184610@eventfrog.at
DTSTAMP:20260423T060841Z
DTSTART:20260426T090000Z
SUMMARY:Walter Lietha – Drum sing i, grad drum
DESCRIPTION:Walter Lietha - Drum sing i, grad drum\n\nhttps://eventfrog.at/de/p/freizeit-ausfluege/walter-lietha-drum-sing-i-grad-drum-7451385554896184610.html
LOCATION:Cinema Luna
GEO:47.558329;8.895727
URL:https://eventfrog.at/de/p/freizeit-ausfluege/walter-lietha-drum-sing-i-grad-drum-7451385554896184610.html
END:VEVENT
BEGIN:VEVENT
UID:20260423T060841Z-7451385555068151075@eventfrog.at
DTSTAMP:20260423T060841Z
DTSTART:20260429T120000Z
SUMMARY:Walter Lietha – Drum sing i, grad drum
DESCRIPTION:Walter Lietha - Drum sing i, grad drum\n\nhttps://eventfrog.at/de/p/freizeit-ausfluege/walter-lietha-drum-sing-i-grad-drum-7451385555068151075.html
LOCATION:Cinema Luna
GEO:47.558329;8.895727
URL:https://eventfrog.at/de/p/freizeit-ausfluege/walter-lietha-drum-sing-i-grad-drum-7451385555068151075.html
END:VEVENT
END:VCALENDAR