BEGIN:VCALENDAR
VERSION:2.0
PRODID:EVENTFROG//EVENTGROUP//ICAL
BEGIN:VEVENT
UID:20260420T161626Z-7451031673209150592@eventfrog.at
DTSTAMP:20260420T161626Z
DTSTART:20260425T080000Z
DTEND:20260425T093000Z
SUMMARY:Schenk mir eine Geschichte -Farsi / Dari
DESCRIPTION:Kinder ab 3 Jahren mit Muttersprache Farsi in Begleitung\n\nhttps://eventfrog.at/de/p/diverses/schenk-mir-eine-geschichte-farsi-dari-7451031673209150592.html
LOCATION:tiRumpel
GEO:47.420944;9.356495
URL:https://eventfrog.at/de/p/diverses/schenk-mir-eine-geschichte-farsi-dari-7451031673209150592.html
END:VEVENT
BEGIN:VEVENT
UID:20260420T161626Z-7451031673376922754@eventfrog.at
DTSTAMP:20260420T161626Z
DTSTART:20260509T080000Z
DTEND:20260509T093000Z
SUMMARY:Schenk mir eine Geschichte -Farsi / Dari
DESCRIPTION:Kinder ab 3 Jahren mit Muttersprache Farsi in Begleitung\n\nhttps://eventfrog.at/de/p/diverses/schenk-mir-eine-geschichte-farsi-dari-7451031673376922754.html
LOCATION:tiRumpel
GEO:47.420944;9.356495
URL:https://eventfrog.at/de/p/diverses/schenk-mir-eine-geschichte-farsi-dari-7451031673376922754.html
END:VEVENT
BEGIN:VEVENT
UID:20260420T161626Z-7451031673716661384@eventfrog.at
DTSTAMP:20260420T161626Z
DTSTART:20260606T080000Z
DTEND:20260606T093000Z
SUMMARY:Schenk mir eine Geschichte -Farsi / Dari
DESCRIPTION:Kinder ab 3 Jahren mit Muttersprache Farsi in Begleitung\n\nhttps://eventfrog.at/de/p/diverses/schenk-mir-eine-geschichte-farsi-dari-7451031673716661384.html
LOCATION:tiRumpel
GEO:47.420944;9.356495
URL:https://eventfrog.at/de/p/diverses/schenk-mir-eine-geschichte-farsi-dari-7451031673716661384.html
END:VEVENT
BEGIN:VEVENT
UID:20260420T161626Z-7451031673888627850@eventfrog.at
DTSTAMP:20260420T161626Z
DTSTART:20260620T080000Z
DTEND:20260620T093000Z
SUMMARY:Schenk mir eine Geschichte -Farsi / Dari
DESCRIPTION:Kinder ab 3 Jahren mit Muttersprache Farsi in Begleitung\n\nhttps://eventfrog.at/de/p/diverses/schenk-mir-eine-geschichte-farsi-dari-7451031673888627850.html
LOCATION:tiRumpel
GEO:47.420944;9.356495
URL:https://eventfrog.at/de/p/diverses/schenk-mir-eine-geschichte-farsi-dari-7451031673888627850.html
END:VEVENT
BEGIN:VEVENT
UID:20260420T161626Z-7451031674060594330@eventfrog.at
DTSTAMP:20260420T161626Z
DTSTART:20260704T080000Z
DTEND:20260704T093000Z
SUMMARY:Schenk mir eine Geschichte -Farsi / Dari
DESCRIPTION:Kinder ab 3 Jahren mit Muttersprache Farsi in Begleitung\n\nhttps://eventfrog.at/de/p/diverses/schenk-mir-eine-geschichte-farsi-dari-7451031674060594330.html
LOCATION:tiRumpel
GEO:47.420944;9.356495
URL:https://eventfrog.at/de/p/diverses/schenk-mir-eine-geschichte-farsi-dari-7451031674060594330.html
END:VEVENT
BEGIN:VEVENT
UID:20260420T161626Z-7451031674228366492@eventfrog.at
DTSTAMP:20260420T161626Z
DTSTART:20260815T080000Z
DTEND:20260815T093000Z
SUMMARY:Schenk mir eine Geschichte -Farsi / Dari
DESCRIPTION:Kinder ab 3 Jahren mit Muttersprache Farsi in Begleitung\n\nhttps://eventfrog.at/de/p/diverses/schenk-mir-eine-geschichte-farsi-dari-7451031674228366492.html
LOCATION:tiRumpel
GEO:47.420944;9.356495
URL:https://eventfrog.at/de/p/diverses/schenk-mir-eine-geschichte-farsi-dari-7451031674228366492.html
END:VEVENT
BEGIN:VEVENT
UID:20260420T161626Z-7451031674400332957@eventfrog.at
DTSTAMP:20260420T161626Z
DTSTART:20260829T080000Z
DTEND:20260829T093000Z
SUMMARY:Schenk mir eine Geschichte -Farsi / Dari
DESCRIPTION:Kinder ab 3 Jahren mit Muttersprache Farsi in Begleitung\n\nhttps://eventfrog.at/de/p/diverses/schenk-mir-eine-geschichte-farsi-dari-7451031674400332957.html
LOCATION:tiRumpel
GEO:47.420944;9.356495
URL:https://eventfrog.at/de/p/diverses/schenk-mir-eine-geschichte-farsi-dari-7451031674400332957.html
END:VEVENT
END:VCALENDAR