BEGIN:VCALENDAR
VERSION:2.0
PRODID:EVENTFROG//EVENTGROUP//ICAL
BEGIN:VEVENT
UID:20260420T144246Z-7439079124193248998@eventfrog.at
DTSTAMP:20260420T144246Z
DTSTART:20260424T170000Z
SUMMARY:Küche für Alle
DESCRIPTION:Feines Essen und gute Gespräche.\n\nhttps://eventfrog.at/de/p/diverses/kueche-fuer-alle-7439079124193248998.html
LOCATION:CaBi Antirassismus-Treff
GEO:47.424828;9.382564
URL:https://eventfrog.at/de/p/diverses/kueche-fuer-alle-7439079124193248998.html
END:VEVENT
BEGIN:VEVENT
UID:20260420T144246Z-7451748168729902829@eventfrog.at
DTSTAMP:20260420T144246Z
DTSTART:20260501T170000Z
SUMMARY:Küche für Alle
DESCRIPTION:Feines Essen und gute Gespräche.\n\nhttps://eventfrog.at/de/p/diverses/kueche-fuer-alle-7451748168729902829.html
LOCATION:CaBi Antirassismus-Treff
GEO:47.424828;9.382564
URL:https://eventfrog.at/de/p/diverses/kueche-fuer-alle-7451748168729902829.html
END:VEVENT
BEGIN:VEVENT
UID:20260420T144246Z-7451748168901869295@eventfrog.at
DTSTAMP:20260420T144246Z
DTSTART:20260508T170000Z
SUMMARY:Küche für Alle
DESCRIPTION:Feines Essen und gute Gespräche.\n\nhttps://eventfrog.at/de/p/diverses/kueche-fuer-alle-7451748168901869295.html
LOCATION:CaBi Antirassismus-Treff
GEO:47.424828;9.382564
URL:https://eventfrog.at/de/p/diverses/kueche-fuer-alle-7451748168901869295.html
END:VEVENT
BEGIN:VEVENT
UID:20260420T144246Z-7451748169073835760@eventfrog.at
DTSTAMP:20260420T144246Z
DTSTART:20260515T170000Z
SUMMARY:Küche für Alle
DESCRIPTION:Feines Essen und gute Gespräche.\n\nhttps://eventfrog.at/de/p/diverses/kueche-fuer-alle-7451748169073835760.html
LOCATION:CaBi Antirassismus-Treff
GEO:47.424828;9.382564
URL:https://eventfrog.at/de/p/diverses/kueche-fuer-alle-7451748169073835760.html
END:VEVENT
BEGIN:VEVENT
UID:20260420T144246Z-7451748169514237682@eventfrog.at
DTSTAMP:20260420T144246Z
DTSTART:20260522T170000Z
SUMMARY:Küche für Alle
DESCRIPTION:Feines Essen und gute Gespräche.\n\nhttps://eventfrog.at/de/p/diverses/kueche-fuer-alle-7451748169514237682.html
LOCATION:CaBi Antirassismus-Treff
GEO:47.424828;9.382564
URL:https://eventfrog.at/de/p/diverses/kueche-fuer-alle-7451748169514237682.html
END:VEVENT
BEGIN:VEVENT
UID:20260420T144246Z-7451748169686204147@eventfrog.at
DTSTAMP:20260420T144246Z
DTSTART:20260529T170000Z
SUMMARY:Küche für Alle
DESCRIPTION:Feines Essen und gute Gespräche.\n\nhttps://eventfrog.at/de/p/diverses/kueche-fuer-alle-7451748169686204147.html
LOCATION:CaBi Antirassismus-Treff
GEO:47.424828;9.382564
URL:https://eventfrog.at/de/p/diverses/kueche-fuer-alle-7451748169686204147.html
END:VEVENT
END:VCALENDAR