BEGIN:VCALENDAR
VERSION:2.0
PRODID:EVENTFROG//EVENTGROUP//ICAL
BEGIN:VEVENT
UID:20260419T165035Z-7450883972442112673@eventfrog.at
DTSTAMP:20260419T165035Z
DTSTART:20260701T161500Z
DTEND:20260701T204500Z
SUMMARY:Lindau by night
DESCRIPTION:Geniessen Sie eine Hin- und Rückfahrt zu einem gemütlichen Aufenthalt im mittelalterlich geprägten Städtchen.\n\nhttps://eventfrog.at/de/p/freizeit-ausfluege/ausfahrt/lindau-by-night-7450883972442112673.html
LOCATION:Rorschach Hafen
GEO:47.478652;9.493739
URL:https://eventfrog.at/de/p/freizeit-ausfluege/ausfahrt/lindau-by-night-7450883972442112673.html
END:VEVENT
BEGIN:VEVENT
UID:20260419T165035Z-7450884064238652455@eventfrog.at
DTSTAMP:20260419T165035Z
DTSTART:20260701T161500Z
DTEND:20260701T204500Z
SUMMARY:Lindau by night
DESCRIPTION:Geniessen Sie eine Hin- und Rückfahrt zu einem gemütlichen Aufenthalt im mittelalterlich geprägten Städtchen.\n\nhttps://eventfrog.at/de/p/freizeit-ausfluege/ausfahrt/lindau-by-night-7450884064238652455.html
LOCATION:Rorschach Hafen
GEO:47.478652;9.493739
URL:https://eventfrog.at/de/p/freizeit-ausfluege/ausfahrt/lindau-by-night-7450884064238652455.html
END:VEVENT
BEGIN:VEVENT
UID:20260419T165035Z-7450884064427396761@eventfrog.at
DTSTAMP:20260419T165035Z
DTSTART:20260708T161500Z
DTEND:20260708T204500Z
SUMMARY:Lindau by night
DESCRIPTION:Geniessen Sie eine Hin- und Rückfahrt zu einem gemütlichen Aufenthalt im mittelalterlich geprägten Städtchen.\n\nhttps://eventfrog.at/de/p/freizeit-ausfluege/ausfahrt/lindau-by-night-7450884064427396761.html
LOCATION:Rorschach Hafen
GEO:47.478652;9.493739
URL:https://eventfrog.at/de/p/freizeit-ausfluege/ausfahrt/lindau-by-night-7450884064427396761.html
END:VEVENT
BEGIN:VEVENT
UID:20260419T165035Z-7450884064549031603@eventfrog.at
DTSTAMP:20260419T165035Z
DTSTART:20260715T161500Z
DTEND:20260715T204500Z
SUMMARY:Lindau by night
DESCRIPTION:Geniessen Sie eine Hin- und Rückfahrt zu einem gemütlichen Aufenthalt im mittelalterlich geprägten Städtchen.\n\nhttps://eventfrog.at/de/p/freizeit-ausfluege/ausfahrt/lindau-by-night-7450884064549031603.html
LOCATION:Rorschach Hafen
GEO:47.478652;9.493739
URL:https://eventfrog.at/de/p/freizeit-ausfluege/ausfahrt/lindau-by-night-7450884064549031603.html
END:VEVENT
BEGIN:VEVENT
UID:20260419T165035Z-7450884064679055084@eventfrog.at
DTSTAMP:20260419T165035Z
DTSTART:20260722T161500Z
DTEND:20260722T204500Z
SUMMARY:Lindau by night
DESCRIPTION:Geniessen Sie eine Hin- und Rückfahrt zu einem gemütlichen Aufenthalt im mittelalterlich geprägten Städtchen.\n\nhttps://eventfrog.at/de/p/freizeit-ausfluege/ausfahrt/lindau-by-night-7450884064679055084.html
LOCATION:Rorschach Hafen
GEO:47.478652;9.493739
URL:https://eventfrog.at/de/p/freizeit-ausfluege/ausfahrt/lindau-by-night-7450884064679055084.html
END:VEVENT
BEGIN:VEVENT
UID:20260419T165035Z-7450884064821661432@eventfrog.at
DTSTAMP:20260419T165035Z
DTSTART:20260729T161500Z
DTEND:20260729T204500Z
SUMMARY:Lindau by night
DESCRIPTION:Geniessen Sie eine Hin- und Rückfahrt zu einem gemütlichen Aufenthalt im mittelalterlich geprägten Städtchen.\n\nhttps://eventfrog.at/de/p/freizeit-ausfluege/ausfahrt/lindau-by-night-7450884064821661432.html
LOCATION:Rorschach Hafen
GEO:47.478652;9.493739
URL:https://eventfrog.at/de/p/freizeit-ausfluege/ausfahrt/lindau-by-night-7450884064821661432.html
END:VEVENT
BEGIN:VEVENT
UID:20260419T165035Z-7450884064947490554@eventfrog.at
DTSTAMP:20260419T165035Z
DTSTART:20260805T161500Z
DTEND:20260805T204500Z
SUMMARY:Lindau by night
DESCRIPTION:Geniessen Sie eine Hin- und Rückfahrt zu einem gemütlichen Aufenthalt im mittelalterlich geprägten Städtchen.\n\nhttps://eventfrog.at/de/p/freizeit-ausfluege/ausfahrt/lindau-by-night-7450884064947490554.html
LOCATION:Rorschach Hafen
GEO:47.478652;9.493739
URL:https://eventfrog.at/de/p/freizeit-ausfluege/ausfahrt/lindau-by-night-7450884064947490554.html
END:VEVENT
BEGIN:VEVENT
UID:20260419T165035Z-7450884065106874108@eventfrog.at
DTSTAMP:20260419T165035Z
DTSTART:20260812T161500Z
DTEND:20260812T204500Z
SUMMARY:Lindau by night
DESCRIPTION:Geniessen Sie eine Hin- und Rückfahrt zu einem gemütlichen Aufenthalt im mittelalterlich geprägten Städtchen.\n\nhttps://eventfrog.at/de/p/freizeit-ausfluege/ausfahrt/lindau-by-night-7450884065106874108.html
LOCATION:Rorschach Hafen
GEO:47.478652;9.493739
URL:https://eventfrog.at/de/p/freizeit-ausfluege/ausfahrt/lindau-by-night-7450884065106874108.html
END:VEVENT
BEGIN:VEVENT
UID:20260419T165035Z-7450884065220120401@eventfrog.at
DTSTAMP:20260419T165035Z
DTSTART:20260819T161500Z
DTEND:20260819T204500Z
SUMMARY:Lindau by night
DESCRIPTION:Geniessen Sie eine Hin- und Rückfahrt zu einem gemütlichen Aufenthalt im mittelalterlich geprägten Städtchen.\n\nhttps://eventfrog.at/de/p/freizeit-ausfluege/ausfahrt/lindau-by-night-7450884065220120401.html
LOCATION:Rorschach Hafen
GEO:47.478652;9.493739
URL:https://eventfrog.at/de/p/freizeit-ausfluege/ausfahrt/lindau-by-night-7450884065220120401.html
END:VEVENT
BEGIN:VEVENT
UID:20260419T165035Z-7450884065337560915@eventfrog.at
DTSTAMP:20260419T165035Z
DTSTART:20260826T161500Z
DTEND:20260826T204500Z
SUMMARY:Lindau by night
DESCRIPTION:Geniessen Sie eine Hin- und Rückfahrt zu einem gemütlichen Aufenthalt im mittelalterlich geprägten Städtchen.\n\nhttps://eventfrog.at/de/p/freizeit-ausfluege/ausfahrt/lindau-by-night-7450884065337560915.html
LOCATION:Rorschach Hafen
GEO:47.478652;9.493739
URL:https://eventfrog.at/de/p/freizeit-ausfluege/ausfahrt/lindau-by-night-7450884065337560915.html
END:VEVENT
END:VCALENDAR