BEGIN:VCALENDAR
VERSION:2.0
PRODID:EVENTFROG//EVENTGROUP//ICAL
BEGIN:VEVENT
UID:20260420T155804Z-7450878251335965809@eventfrog.at
DTSTAMP:20260420T155804Z
DTSTART:20260430T150000Z
DTEND:20260430T215900Z
SUMMARY:Burgspektakel Bad Bodenteich
DESCRIPTION:Vom 30.4. bis 3.5.2026 bietet die Burg Bodenteich ein mittelalterliches Spektakel mit Markt, Rittern, Gauklern und mystischen Wesen.\n\nhttps://eventfrog.at/de/p/maerkte/mittelaltermarkt/burgspektakel-bad-bodenteich-7450878251335965809.html
LOCATION:Burg Bodenteich
GEO:52.834242;10.683126
URL:https://eventfrog.at/de/p/maerkte/mittelaltermarkt/burgspektakel-bad-bodenteich-7450878251335965809.html
END:VEVENT
BEGIN:VEVENT
UID:20260420T155804Z-7450878598200727533@eventfrog.at
DTSTAMP:20260420T155804Z
DTSTART:20260501T090000Z
DTEND:20260501T190000Z
SUMMARY:Burgspektakel Bad Bodenteich
DESCRIPTION:Vom 30.4. bis 3.5.2026 bietet die Burg Bodenteich ein mittelalterliches Spektakel mit Markt, Rittern, Gauklern und mystischen Wesen.\n\nhttps://eventfrog.at/de/p/maerkte/mittelaltermarkt/burgspektakel-bad-bodenteich-7450878598200727533.html
LOCATION:Burg Bodenteich
GEO:52.834242;10.683126
URL:https://eventfrog.at/de/p/maerkte/mittelaltermarkt/burgspektakel-bad-bodenteich-7450878598200727533.html
END:VEVENT
BEGIN:VEVENT
UID:20260420T155804Z-7450878598427220575@eventfrog.at
DTSTAMP:20260420T155804Z
DTSTART:20260502T110000Z
DTEND:20260502T200000Z
SUMMARY:Burgspektakel Bad Bodenteich
DESCRIPTION:Vom 30.4. bis 3.5.2026 bietet die Burg Bodenteich ein mittelalterliches Spektakel mit Markt, Rittern, Gauklern und mystischen Wesen.\n\nhttps://eventfrog.at/de/p/maerkte/mittelaltermarkt/burgspektakel-bad-bodenteich-7450878598427220575.html
LOCATION:Burg Bodenteich
GEO:52.834242;10.683126
URL:https://eventfrog.at/de/p/maerkte/mittelaltermarkt/burgspektakel-bad-bodenteich-7450878598427220575.html
END:VEVENT
BEGIN:VEVENT
UID:20260420T155804Z-7450878598553049759@eventfrog.at
DTSTAMP:20260420T155804Z
DTSTART:20260503T090000Z
DTEND:20260503T160000Z
SUMMARY:Burgspektakel Bad Bodenteich
DESCRIPTION:Vom 30.4. bis 3.5.2026 bietet die Burg Bodenteich ein mittelalterliches Spektakel mit Markt, Rittern, Gauklern und mystischen Wesen.\n\nhttps://eventfrog.at/de/p/maerkte/mittelaltermarkt/burgspektakel-bad-bodenteich-7450878598553049759.html
LOCATION:Burg Bodenteich
GEO:52.834242;10.683126
URL:https://eventfrog.at/de/p/maerkte/mittelaltermarkt/burgspektakel-bad-bodenteich-7450878598553049759.html
END:VEVENT
END:VCALENDAR