BEGIN:VCALENDAR
VERSION:2.0
PRODID:EVENTFROG//EVENTGROUP//ICAL
BEGIN:VEVENT
UID:20260419T175926Z-7450869671618709835@eventfrog.at
DTSTAMP:20260419T175926Z
DTSTART:20260424T120000Z
DTEND:20260424T180000Z
SUMMARY:King Colis bringt seinen Pop-up-Store zurück nach München!
DESCRIPTION:München. Nach dem großen Erfolg im März 2025 kehrt King Colis zurück nach München. Damals sorgte das Konzept rund um „verlorene Pakete“ für enormen Andrang: Rund 7.200 Besucher kamen in den Pop-up-Sto\n\nhttps://eventfrog.at/de/p/maerkte/sonstige-maerkte/king-colis-bringt-seinen-pop-up-store-zurueck-nach-muenchen-7450869671618709835.html
LOCATION:FORUM Schwanthalerhöhe, Theresienhöhe 5, 80339 München, DE
GEO:48.133778;11.543876
URL:https://eventfrog.at/de/p/maerkte/sonstige-maerkte/king-colis-bringt-seinen-pop-up-store-zurueck-nach-muenchen-7450869671618709835.html
END:VEVENT
BEGIN:VEVENT
UID:20260419T175926Z-7450869743546840557@eventfrog.at
DTSTAMP:20260419T175926Z
DTSTART:20260425T080000Z
DTEND:20260425T180000Z
SUMMARY:King Colis bringt seinen Pop-up-Store zurück nach München!
DESCRIPTION:München. Nach dem großen Erfolg im März 2025 kehrt King Colis zurück nach München. Damals sorgte das Konzept rund um „verlorene Pakete“ für enormen Andrang: Rund 7.200 Besucher kamen in den Pop-up-Sto\n\nhttps://eventfrog.at/de/p/maerkte/sonstige-maerkte/king-colis-bringt-seinen-pop-up-store-zurueck-nach-muenchen-7450869743546840557.html
LOCATION:FORUM Schwanthalerhöhe, Theresienhöhe 5, 80339 München, DE
GEO:48.133778;11.543876
URL:https://eventfrog.at/de/p/maerkte/sonstige-maerkte/king-colis-bringt-seinen-pop-up-store-zurueck-nach-muenchen-7450869743546840557.html
END:VEVENT
BEGIN:VEVENT
UID:20260419T175926Z-7450869743622338554@eventfrog.at
DTSTAMP:20260419T175926Z
DTSTART:20260427T080000Z
DTEND:20260427T180000Z
SUMMARY:King Colis bringt seinen Pop-up-Store zurück nach München!
DESCRIPTION:München. Nach dem großen Erfolg im März 2025 kehrt King Colis zurück nach München. Damals sorgte das Konzept rund um „verlorene Pakete“ für enormen Andrang: Rund 7.200 Besucher kamen in den Pop-up-Sto\n\nhttps://eventfrog.at/de/p/maerkte/sonstige-maerkte/king-colis-bringt-seinen-pop-up-store-zurueck-nach-muenchen-7450869743622338554.html
LOCATION:FORUM Schwanthalerhöhe, Theresienhöhe 5, 80339 München, DE
GEO:48.133778;11.543876
URL:https://eventfrog.at/de/p/maerkte/sonstige-maerkte/king-colis-bringt-seinen-pop-up-store-zurueck-nach-muenchen-7450869743622338554.html
END:VEVENT
BEGIN:VEVENT
UID:20260419T175926Z-7450869743689447419@eventfrog.at
DTSTAMP:20260419T175926Z
DTSTART:20260428T080000Z
DTEND:20260428T180000Z
SUMMARY:King Colis bringt seinen Pop-up-Store zurück nach München!
DESCRIPTION:München. Nach dem großen Erfolg im März 2025 kehrt King Colis zurück nach München. Damals sorgte das Konzept rund um „verlorene Pakete“ für enormen Andrang: Rund 7.200 Besucher kamen in den Pop-up-Sto\n\nhttps://eventfrog.at/de/p/maerkte/sonstige-maerkte/king-colis-bringt-seinen-pop-up-store-zurueck-nach-muenchen-7450869743689447419.html
LOCATION:FORUM Schwanthalerhöhe, Theresienhöhe 5, 80339 München, DE
GEO:48.133778;11.543876
URL:https://eventfrog.at/de/p/maerkte/sonstige-maerkte/king-colis-bringt-seinen-pop-up-store-zurueck-nach-muenchen-7450869743689447419.html
END:VEVENT
BEGIN:VEVENT
UID:20260419T175926Z-7450869743752362081@eventfrog.at
DTSTAMP:20260419T175926Z
DTSTART:20260429T080000Z
DTEND:20260429T180000Z
SUMMARY:King Colis bringt seinen Pop-up-Store zurück nach München!
DESCRIPTION:München. Nach dem großen Erfolg im März 2025 kehrt King Colis zurück nach München. Damals sorgte das Konzept rund um „verlorene Pakete“ für enormen Andrang: Rund 7.200 Besucher kamen in den Pop-up-Sto\n\nhttps://eventfrog.at/de/p/maerkte/sonstige-maerkte/king-colis-bringt-seinen-pop-up-store-zurueck-nach-muenchen-7450869743752362081.html
LOCATION:FORUM Schwanthalerhöhe, Theresienhöhe 5, 80339 München, DE
GEO:48.133778;11.543876
URL:https://eventfrog.at/de/p/maerkte/sonstige-maerkte/king-colis-bringt-seinen-pop-up-store-zurueck-nach-muenchen-7450869743752362081.html
END:VEVENT
BEGIN:VEVENT
UID:20260419T175926Z-7450869743819470946@eventfrog.at
DTSTAMP:20260419T175926Z
DTSTART:20260430T080000Z
DTEND:20260430T180000Z
SUMMARY:King Colis bringt seinen Pop-up-Store zurück nach München!
DESCRIPTION:München. Nach dem großen Erfolg im März 2025 kehrt King Colis zurück nach München. Damals sorgte das Konzept rund um „verlorene Pakete“ für enormen Andrang: Rund 7.200 Besucher kamen in den Pop-up-Sto\n\nhttps://eventfrog.at/de/p/maerkte/sonstige-maerkte/king-colis-bringt-seinen-pop-up-store-zurueck-nach-muenchen-7450869743819470946.html
LOCATION:FORUM Schwanthalerhöhe, Theresienhöhe 5, 80339 München, DE
GEO:48.133778;11.543876
URL:https://eventfrog.at/de/p/maerkte/sonstige-maerkte/king-colis-bringt-seinen-pop-up-store-zurueck-nach-muenchen-7450869743819470946.html
END:VEVENT
BEGIN:VEVENT
UID:20260419T175926Z-7450869743886579874@eventfrog.at
DTSTAMP:20260419T175926Z
DTSTART:20260502T080000Z
DTEND:20260502T180000Z
SUMMARY:King Colis bringt seinen Pop-up-Store zurück nach München!
DESCRIPTION:München. Nach dem großen Erfolg im März 2025 kehrt King Colis zurück nach München. Damals sorgte das Konzept rund um „verlorene Pakete“ für enormen Andrang: Rund 7.200 Besucher kamen in den Pop-up-Sto\n\nhttps://eventfrog.at/de/p/maerkte/sonstige-maerkte/king-colis-bringt-seinen-pop-up-store-zurueck-nach-muenchen-7450869743886579874.html
LOCATION:FORUM Schwanthalerhöhe, Theresienhöhe 5, 80339 München, DE
GEO:48.133778;11.543876
URL:https://eventfrog.at/de/p/maerkte/sonstige-maerkte/king-colis-bringt-seinen-pop-up-store-zurueck-nach-muenchen-7450869743886579874.html
END:VEVENT
END:VCALENDAR