BEGIN:VCALENDAR
VERSION:2.0
PRODID:EVENTFROG//EVENTGROUP//ICAL
BEGIN:VEVENT
UID:20260420T155728Z-7450805911965197846@eventfrog.at
DTSTAMP:20260420T155728Z
DTSTART:20261016T070000Z
DTEND:20261016T160000Z
SUMMARY:LEBEN UND TOD 2026
DESCRIPTION:„Gemeinsam über letzte Dinge sprechen!“\nDie Messe, die Mut macht. Mit Lesungen, Comedy "Der Tod",  Beratungsangeboten, Live-Musik und interaktiven Angeboten rund um die Themen am Lebensende. \n\nhttps://eventfrog.at/de/p/messen/messe/leben-und-tod-2026-7450805911965197846.html
LOCATION:SICK-ARENA
GEO:48.015678;7.840312
URL:https://eventfrog.at/de/p/messen/messe/leben-und-tod-2026-7450805911965197846.html
END:VEVENT
BEGIN:VEVENT
UID:20260420T155728Z-7450806208640847620@eventfrog.at
DTSTAMP:20260420T155728Z
DTSTART:20261017T070000Z
DTEND:20261017T143000Z
SUMMARY:LEBEN UND TOD 2026
DESCRIPTION:„Gemeinsam über letzte Dinge sprechen!“\nDie Messe, die Mut macht. Mit Lesungen, Comedy "Der Tod",  Beratungsangeboten, Live-Musik und interaktiven Angeboten rund um die Themen am Lebensende. \n\nhttps://eventfrog.at/de/p/messen/messe/leben-und-tod-2026-7450806208640847620.html
LOCATION:SICK-ARENA
GEO:48.015678;7.840312
URL:https://eventfrog.at/de/p/messen/messe/leben-und-tod-2026-7450806208640847620.html
END:VEVENT
END:VCALENDAR