BEGIN:VCALENDAR
VERSION:2.0
PRODID:EVENTFROG//EVENTGROUP//ICAL
BEGIN:VEVENT
UID:20260424T092412Z-7450665448293577820@eventfrog.at
DTSTAMP:20260424T092412Z
DTSTART:20260524T110000Z
DTEND:20260524T120000Z
SUMMARY:Workshop: Family Drumming
DESCRIPTION:Afro-Pfingsten Festival 2026\n\nhttps://eventfrog.at/de/p/kinderveranstaltungen/workshop-family-drumming-7450665448293577820.html
LOCATION:Alte Kaserne Winterthur
GEO:47.497854;8.731663
URL:https://eventfrog.at/de/p/kinderveranstaltungen/workshop-family-drumming-7450665448293577820.html
END:VEVENT
END:VCALENDAR