BEGIN:VCALENDAR
VERSION:2.0
PRODID:EVENTFROG//EVENTGROUP//ICAL
BEGIN:VEVENT
UID:20260419T141947Z-7450534875868735305@eventfrog.at
DTSTAMP:20260419T141947Z
DTSTART:20260913T070000Z
DTEND:20260913T160000Z
SUMMARY:Flohmarkt
DESCRIPTION:Flohmarkt in Geldern  bei bib im Barbaragebiet.\n\nhttps://eventfrog.at/de/p/maerkte/flohmarkt/flohmarkt-7450534875868735305.html
LOCATION:bib Geldern im Barbaragebiet
GEO:51.516864;6.340656
URL:https://eventfrog.at/de/p/maerkte/flohmarkt/flohmarkt-7450534875868735305.html
END:VEVENT
END:VCALENDAR