BEGIN:VCALENDAR
VERSION:2.0
PRODID:EVENTFROG//EVENTGROUP//ICAL
BEGIN:VEVENT
UID:20260421T183700Z-7450144383213564714@eventfrog.at
DTSTAMP:20260421T183700Z
DTSTART:20261121T100000Z
DTEND:20261121T170000Z
SUMMARY:Mineralientage Nürnberg
DESCRIPTION:Verkaufsveranstaltung für Mineralien, Schmuck, Edelsteine, Fossilien, Meteoriten, Sammlerzubehör, Dekoartikel und Literatur aus diesem Bereich am 21. und 22.11.2026\n\nhttps://eventfrog.at/de/p/maerkte/sammlermarkt/mineralientage-nuernberg-7450144383213564714.html
LOCATION:Ofenwerk
GEO:49.477461;11.117138
URL:https://eventfrog.at/de/p/maerkte/sammlermarkt/mineralientage-nuernberg-7450144383213564714.html
END:VEVENT
BEGIN:VEVENT
UID:20260421T183700Z-7450149064774021989@eventfrog.at
DTSTAMP:20260421T183700Z
DTSTART:20261122T100000Z
DTEND:20261122T160000Z
SUMMARY:Mineralientage Nürnberg
DESCRIPTION:Verkaufsveranstaltung für Mineralien, Schmuck, Edelsteine, Fossilien, Meteoriten, Sammlerzubehör, Dekoartikel und Literatur aus diesem Bereich.\n\nhttps://eventfrog.at/de/p/maerkte/sammlermarkt/mineralientage-nuernberg-7450149064774021989.html
LOCATION:Ofenwerk
GEO:49.477461;11.117138
URL:https://eventfrog.at/de/p/maerkte/sammlermarkt/mineralientage-nuernberg-7450149064774021989.html
END:VEVENT
END:VCALENDAR