BEGIN:VCALENDAR
VERSION:2.0
PRODID:EVENTFROG//EVENTGROUP//ICAL
BEGIN:VEVENT
UID:20260424T045130Z-7449913130790957617@eventfrog.at
DTSTAMP:20260424T045130Z
DTSTART:20260424T060000Z
DTEND:20260424T170000Z
SUMMARY:Frühlingsausstellung Wiedlisbach
DESCRIPTION:Unsere Frühlingsausstellung zeigt Blumen, Pflanzen, Küchenkräuter, Solarlampen und viele weitere schöne Dekoideen fürs Zuhause.\n\nhttps://eventfrog.at/de/p/kunst-ausstellungen/ausstellung/fruehlingsausstellung-wiedlisbach-7449913130790957617.html
LOCATION:Blumen Tschan
GEO:47.252658;7.648607
URL:https://eventfrog.at/de/p/kunst-ausstellungen/ausstellung/fruehlingsausstellung-wiedlisbach-7449913130790957617.html
END:VEVENT
BEGIN:VEVENT
UID:20260424T045130Z-7449913191583202521@eventfrog.at
DTSTAMP:20260424T045130Z
DTSTART:20260425T060000Z
DTEND:20260425T140000Z
SUMMARY:Frühlingsausstellung Wiedlisbach
DESCRIPTION:Unsere Frühlingsausstellung zeigt Blumen, Pflanzen, Küchenkräuter, Solarlampen und viele weitere schöne Dekoideen fürs Zuhause.\n\nhttps://eventfrog.at/de/p/kunst-ausstellungen/ausstellung/fruehlingsausstellung-wiedlisbach-7449913191583202521.html
LOCATION:Blumen Tschan
GEO:47.252658;7.648607
URL:https://eventfrog.at/de/p/kunst-ausstellungen/ausstellung/fruehlingsausstellung-wiedlisbach-7449913191583202521.html
END:VEVENT
END:VCALENDAR