BEGIN:VCALENDAR
VERSION:2.0
PRODID:EVENTFROG//EVENTGROUP//ICAL
BEGIN:VEVENT
UID:20260422T152606Z-7448051681135182717@eventfrog.at
DTSTAMP:20260422T152606Z
DTSTART:20260509T170000Z
DTEND:20260510T200000Z
SUMMARY:WIR SIND DIE NEUEN - Theaterkomödie
DESCRIPTION:Gesellschaftskomödie mit viel Humor über das Leben zweier unterschiedlicher Wohngemeinschaften.\nAlthippies treffen auf spießige Studenten.\n\nhttps://eventfrog.at/de/p/theater-buehne/buehnenveranstaltung/wir-sind-die-neuen-theaterkomoedie-7448051681135182717.html
LOCATION:Ludwigstraße 73
GEO:48.240930;12.686818
URL:https://eventfrog.at/de/p/theater-buehne/buehnenveranstaltung/wir-sind-die-neuen-theaterkomoedie-7448051681135182717.html
END:VEVENT
BEGIN:VEVENT
UID:20260422T152606Z-7448053059169597779@eventfrog.at
DTSTAMP:20260422T152606Z
DTSTART:20260510T170000Z
SUMMARY:WIR SIND DIE NEUEN - Theaterkomödie
DESCRIPTION:Gesellschaftskomödie mit viel Humor über das Leben zweier unterschiedlicher Wohngemeinschaften.\nAlthippies treffen auf spießige Studenten.\n\nhttps://eventfrog.at/de/p/theater-buehne/buehnenveranstaltung/wir-sind-die-neuen-theaterkomoedie-7448053059169597779.html
LOCATION:Ludwigstraße 73
GEO:48.240930;12.686818
URL:https://eventfrog.at/de/p/theater-buehne/buehnenveranstaltung/wir-sind-die-neuen-theaterkomoedie-7448053059169597779.html
END:VEVENT
BEGIN:VEVENT
UID:20260422T152606Z-7448053059291232597@eventfrog.at
DTSTAMP:20260422T152606Z
DTSTART:20260513T180000Z
SUMMARY:WIR SIND DIE NEUEN - Theaterkomödie
DESCRIPTION:Gesellschaftskomödie mit viel Humor über das Leben zweier unterschiedlicher Wohngemeinschaften.\nAlthippies treffen auf spießige Studenten.\n\nhttps://eventfrog.at/de/p/theater-buehne/buehnenveranstaltung/wir-sind-die-neuen-theaterkomoedie-7448053059291232597.html
LOCATION:Ludwigstraße 73
GEO:48.240930;12.686818
URL:https://eventfrog.at/de/p/theater-buehne/buehnenveranstaltung/wir-sind-die-neuen-theaterkomoedie-7448053059291232597.html
END:VEVENT
BEGIN:VEVENT
UID:20260422T152606Z-7448053059421256023@eventfrog.at
DTSTAMP:20260422T152606Z
DTSTART:20260514T170000Z
SUMMARY:WIR SIND DIE NEUEN - Theaterkomödie
DESCRIPTION:Gesellschaftskomödie mit viel Humor über das Leben zweier unterschiedlicher Wohngemeinschaften.\nAlthippies treffen auf spießige Studenten.\n\nhttps://eventfrog.at/de/p/theater-buehne/buehnenveranstaltung/wir-sind-die-neuen-theaterkomoedie-7448053059421256023.html
LOCATION:Ludwigstraße 73
GEO:48.240930;12.686818
URL:https://eventfrog.at/de/p/theater-buehne/buehnenveranstaltung/wir-sind-die-neuen-theaterkomoedie-7448053059421256023.html
END:VEVENT
BEGIN:VEVENT
UID:20260422T152606Z-7448053059555474271@eventfrog.at
DTSTAMP:20260422T152606Z
DTSTART:20260515T170000Z
SUMMARY:WIR SIND DIE NEUEN - Theaterkomödie
DESCRIPTION:Gesellschaftskomödie mit viel Humor über das Leben zweier unterschiedlicher Wohngemeinschaften.\nAlthippies treffen auf spießige Studenten.\n\nhttps://eventfrog.at/de/p/theater-buehne/buehnenveranstaltung/wir-sind-die-neuen-theaterkomoedie-7448053059555474271.html
LOCATION:Ludwigstraße 73
GEO:48.240930;12.686818
URL:https://eventfrog.at/de/p/theater-buehne/buehnenveranstaltung/wir-sind-die-neuen-theaterkomoedie-7448053059555474271.html
END:VEVENT
END:VCALENDAR