BEGIN:VCALENDAR
VERSION:2.0
PRODID:EVENTFROG//EVENTGROUP//ICAL
BEGIN:VEVENT
UID:20260424T065101Z-7447337364542728057@eventfrog.at
DTSTAMP:20260424T065101Z
DTSTART:20260425T123000Z
DTEND:20260425T143000Z
SUMMARY:Musikalischer Spaziergang Liederliche Nullrunde auf der Lauf
DESCRIPTION:Gabriel Kramer führt auf der Westseite der Laufenburger Acht mit Gitarre und Mundharmonika durch Lieder und eine dramatische Sage.\n\nhttps://eventfrog.at/de/p/fuehrungen-vortraege/fuehrung/musikalischer-spaziergang-liederliche-nullrunde-auf-der-lauf-7447337364542728057.html
LOCATION:Altstadt Laufenburg
GEO:47.563139;8.059969
URL:https://eventfrog.at/de/p/fuehrungen-vortraege/fuehrung/musikalischer-spaziergang-liederliche-nullrunde-auf-der-lauf-7447337364542728057.html
END:VEVENT
BEGIN:VEVENT
UID:20260424T065101Z-7447337665958019402@eventfrog.at
DTSTAMP:20260424T065101Z
DTSTART:20260816T150000Z
DTEND:20260816T170000Z
SUMMARY:Musikalischer Spaziergang Liederliche Nullrunde auf der Lauf
DESCRIPTION:Gabriel Kramer führt auf der Westseite der Laufenburger Acht mit Gitarre und Mundharmonika durch Lieder und eine dramatische Sage.\n\nhttps://eventfrog.at/de/p/fuehrungen-vortraege/fuehrung/musikalischer-spaziergang-liederliche-nullrunde-auf-der-lauf-7447337665958019402.html
LOCATION:Altstadt Laufenburg
GEO:47.563139;8.059969
URL:https://eventfrog.at/de/p/fuehrungen-vortraege/fuehrung/musikalischer-spaziergang-liederliche-nullrunde-auf-der-lauf-7447337665958019402.html
END:VEVENT
BEGIN:VEVENT
UID:20260424T065101Z-7447337666109014957@eventfrog.at
DTSTAMP:20260424T065101Z
DTSTART:20260911T180000Z
DTEND:20260911T200000Z
SUMMARY:Musikalischer Spaziergang Liederliche Nullrunde auf der Lauf
DESCRIPTION:Gabriel Kramer führt auf der Westseite der Laufenburger Acht mit Gitarre und Mundharmonika durch Lieder und eine dramatische Sage.\n\nhttps://eventfrog.at/de/p/fuehrungen-vortraege/fuehrung/musikalischer-spaziergang-liederliche-nullrunde-auf-der-lauf-7447337666109014957.html
LOCATION:Altstadt Laufenburg
GEO:47.563139;8.059969
URL:https://eventfrog.at/de/p/fuehrungen-vortraege/fuehrung/musikalischer-spaziergang-liederliche-nullrunde-auf-der-lauf-7447337666109014957.html
END:VEVENT
END:VCALENDAR