BEGIN:VCALENDAR
VERSION:2.0
PRODID:EVENTFROG//EVENTGROUP//ICAL
BEGIN:VEVENT
UID:20260423T002406Z-7444309959947329763@eventfrog.at
DTSTAMP:20260423T002406Z
DTSTART:20260424T140000Z
DTEND:20260424T180000Z
SUMMARY:Workshop "Brot und Kraut"
DESCRIPTION:Erlebe Brot- oder Kraut-Workshop mit Wildpflanzenmenü, Backwerk und Kostproben. Freitag oder Samstag, max. 20 Teilnehmer.\n\nhttps://eventfrog.at/de/p/kurse-seminare/sonstige-kurse-seminare/workshop-brot-und-kraut-7444309959947329763.html
LOCATION:Buchaer Landbackverein
GEO:50.878742;11.510356
URL:https://eventfrog.at/de/p/kurse-seminare/sonstige-kurse-seminare/workshop-brot-und-kraut-7444309959947329763.html
END:VEVENT
BEGIN:VEVENT
UID:20260423T002406Z-7444310468842260725@eventfrog.at
DTSTAMP:20260423T002406Z
DTSTART:20260425T120000Z
DTEND:20260425T160000Z
SUMMARY:Workshop "Brot und Kraut"
DESCRIPTION:Erlebe Brot- oder Kraut-Workshop mit Wildpflanzenmenü, Backwerk und Kostproben. Freitag oder Samstag, max. 20 Teilnehmer.\n\nhttps://eventfrog.at/de/p/kurse-seminare/sonstige-kurse-seminare/workshop-brot-und-kraut-7444310468842260725.html
LOCATION:Buchaer Landbackverein
GEO:50.878742;11.510356
URL:https://eventfrog.at/de/p/kurse-seminare/sonstige-kurse-seminare/workshop-brot-und-kraut-7444310468842260725.html
END:VEVENT
END:VCALENDAR