BEGIN:VCALENDAR
VERSION:2.0
PRODID:EVENTFROG//EVENTGROUP//ICAL
BEGIN:VEVENT
UID:20260424T080033Z-7443694110765000070@eventfrog.at
DTSTAMP:20260424T080033Z
DTSTART:20260515T170000Z
DTEND:20260515T190000Z
SUMMARY:Voix Libre
DESCRIPTION:Atelier d'exploration vocale -  Viens jouer avec ta voix, explorer ta palette sonore en groupe et oser le chant sans complexe.\n\nhttps://eventfrog.at/fr/p/cours-seminaires/musique-danse/voix-libre-7443694110765000070.html
LOCATION:Yourte Plan-Les-Ouates
GEO:46.163466;6.130463
URL:https://eventfrog.at/fr/p/cours-seminaires/musique-danse/voix-libre-7443694110765000070.html
END:VEVENT
BEGIN:VEVENT
UID:20260424T080033Z-7443695548253627986@eventfrog.at
DTSTAMP:20260424T080033Z
DTSTART:20260522T170000Z
SUMMARY:Voix Libre
DESCRIPTION:Atelier d'exploration vocale -  Viens jouer avec ta voix, explorer ta palette sonore en groupe et oser le chant sans complexe.\n\nhttps://eventfrog.at/fr/p/cours-seminaires/musique-danse/voix-libre-7443695548253627986.html
LOCATION:Yourte Plan-Les-Ouates
GEO:46.163466;6.130463
URL:https://eventfrog.at/fr/p/cours-seminaires/musique-danse/voix-libre-7443695548253627986.html
END:VEVENT
END:VCALENDAR