BEGIN:VCALENDAR
VERSION:2.0
PRODID:EVENTFROG//EVENTGROUP//ICAL
BEGIN:VEVENT
UID:20260424T105257Z-7407554583608702068@eventfrog.at
DTSTAMP:20260424T105257Z
DTSTART:20260427T130000Z
DTEND:20260427T160000Z
SUMMARY:Kinderbauplatz auf der Brache Lachen
DESCRIPTION:Hämmern, sägen, graben, und spielen auf der Brache Lachen\n\nhttps://eventfrog.at/de/p/diverses/kinderbauplatz-auf-der-brache-lachen-7407554583608702068.html
LOCATION:Brache Lachen
GEO:47.417873;9.348118
URL:https://eventfrog.at/de/p/diverses/kinderbauplatz-auf-der-brache-lachen-7407554583608702068.html
END:VEVENT
BEGIN:VEVENT
UID:20260424T105257Z-7407554583784862837@eventfrog.at
DTSTAMP:20260424T105257Z
DTSTART:20260504T130000Z
DTEND:20260504T160000Z
SUMMARY:Kinderbauplatz auf der Brache Lachen
DESCRIPTION:Hämmern, sägen, graben, und spielen auf der Brache Lachen\n\nhttps://eventfrog.at/de/p/diverses/kinderbauplatz-auf-der-brache-lachen-7407554583784862837.html
LOCATION:Brache Lachen
GEO:47.417873;9.348118
URL:https://eventfrog.at/de/p/diverses/kinderbauplatz-auf-der-brache-lachen-7407554583784862837.html
END:VEVENT
BEGIN:VEVENT
UID:20260424T105257Z-7407554583948440694@eventfrog.at
DTSTAMP:20260424T105257Z
DTSTART:20260511T130000Z
DTEND:20260511T160000Z
SUMMARY:Kinderbauplatz auf der Brache Lachen
DESCRIPTION:Hämmern, sägen, graben, und spielen auf der Brache Lachen\n\nhttps://eventfrog.at/de/p/diverses/kinderbauplatz-auf-der-brache-lachen-7407554583948440694.html
LOCATION:Brache Lachen
GEO:47.417873;9.348118
URL:https://eventfrog.at/de/p/diverses/kinderbauplatz-auf-der-brache-lachen-7407554583948440694.html
END:VEVENT
BEGIN:VEVENT
UID:20260424T105257Z-7407554584145573075@eventfrog.at
DTSTAMP:20260424T105257Z
DTSTART:20260518T130000Z
DTEND:20260518T160000Z
SUMMARY:Kinderbauplatz auf der Brache Lachen
DESCRIPTION:Hämmern, sägen, graben, und spielen auf der Brache Lachen\n\nhttps://eventfrog.at/de/p/diverses/kinderbauplatz-auf-der-brache-lachen-7407554584145573075.html
LOCATION:Brache Lachen
GEO:47.417873;9.348118
URL:https://eventfrog.at/de/p/diverses/kinderbauplatz-auf-der-brache-lachen-7407554584145573075.html
END:VEVENT
BEGIN:VEVENT
UID:20260424T105257Z-7407554584309150932@eventfrog.at
DTSTAMP:20260424T105257Z
DTSTART:20260601T130000Z
DTEND:20260601T160000Z
SUMMARY:Kinderbauplatz auf der Brache Lachen
DESCRIPTION:Hämmern, sägen, graben, und spielen auf der Brache Lachen\n\nhttps://eventfrog.at/de/p/diverses/kinderbauplatz-auf-der-brache-lachen-7407554584309150932.html
LOCATION:Brache Lachen
GEO:47.417873;9.348118
URL:https://eventfrog.at/de/p/diverses/kinderbauplatz-auf-der-brache-lachen-7407554584309150932.html
END:VEVENT
BEGIN:VEVENT
UID:20260424T105257Z-7407554584476923093@eventfrog.at
DTSTAMP:20260424T105257Z
DTSTART:20260608T130000Z
DTEND:20260608T160000Z
SUMMARY:Kinderbauplatz auf der Brache Lachen
DESCRIPTION:Hämmern, sägen, graben, und spielen auf der Brache Lachen\n\nhttps://eventfrog.at/de/p/diverses/kinderbauplatz-auf-der-brache-lachen-7407554584476923093.html
LOCATION:Brache Lachen
GEO:47.417873;9.348118
URL:https://eventfrog.at/de/p/diverses/kinderbauplatz-auf-der-brache-lachen-7407554584476923093.html
END:VEVENT
BEGIN:VEVENT
UID:20260424T105257Z-7407554584644695254@eventfrog.at
DTSTAMP:20260424T105257Z
DTSTART:20260615T130000Z
DTEND:20260615T160000Z
SUMMARY:Kinderbauplatz auf der Brache Lachen
DESCRIPTION:Hämmern, sägen, graben, und spielen auf der Brache Lachen\n\nhttps://eventfrog.at/de/p/diverses/kinderbauplatz-auf-der-brache-lachen-7407554584644695254.html
LOCATION:Brache Lachen
GEO:47.417873;9.348118
URL:https://eventfrog.at/de/p/diverses/kinderbauplatz-auf-der-brache-lachen-7407554584644695254.html
END:VEVENT
BEGIN:VEVENT
UID:20260424T105257Z-7407554584866993368@eventfrog.at
DTSTAMP:20260424T105257Z
DTSTART:20260622T130000Z
DTEND:20260622T160000Z
SUMMARY:Kinderbauplatz auf der Brache Lachen
DESCRIPTION:Hämmern, sägen, graben, und spielen auf der Brache Lachen\n\nhttps://eventfrog.at/de/p/diverses/kinderbauplatz-auf-der-brache-lachen-7407554584866993368.html
LOCATION:Brache Lachen
GEO:47.417873;9.348118
URL:https://eventfrog.at/de/p/diverses/kinderbauplatz-auf-der-brache-lachen-7407554584866993368.html
END:VEVENT
BEGIN:VEVENT
UID:20260424T105257Z-7407554585055737049@eventfrog.at
DTSTAMP:20260424T105257Z
DTSTART:20260629T130000Z
DTEND:20260629T160000Z
SUMMARY:Kinderbauplatz auf der Brache Lachen
DESCRIPTION:Hämmern, sägen, graben, und spielen auf der Brache Lachen\n\nhttps://eventfrog.at/de/p/diverses/kinderbauplatz-auf-der-brache-lachen-7407554585055737049.html
LOCATION:Brache Lachen
GEO:47.417873;9.348118
URL:https://eventfrog.at/de/p/diverses/kinderbauplatz-auf-der-brache-lachen-7407554585055737049.html
END:VEVENT
END:VCALENDAR