BEGIN:VCALENDAR
VERSION:2.0
PRODID:EVENTFROG//EVENTGROUP//ICAL
BEGIN:VEVENT
UID:20260424T072550Z-7439688880138264262@eventfrog.at
DTSTAMP:20260424T072550Z
DTSTART:20260605T120000Z
DTEND:20260605T150000Z
SUMMARY:Kunsthandwerkerin im Museum
DESCRIPTION:Kunsthandwerkerin im Museum\n\nhttps://eventfrog.at/de/p/wissenschaft-und-technik/kunsthandwerkerin-im-museum-7439688880138264262.html
LOCATION:Museum Appenzell
GEO:47.330788;9.408760
URL:https://eventfrog.at/de/p/wissenschaft-und-technik/kunsthandwerkerin-im-museum-7439688880138264262.html
END:VEVENT
BEGIN:VEVENT
UID:20260424T072550Z-7439688881404945528@eventfrog.at
DTSTAMP:20260424T072550Z
DTSTART:20260612T120000Z
DTEND:20260612T150000Z
SUMMARY:Kunsthandwerkerin im Museum
DESCRIPTION:Kunsthandwerkerin im Museum\n\nhttps://eventfrog.at/de/p/wissenschaft-und-technik/kunsthandwerkerin-im-museum-7439688881404945528.html
LOCATION:Museum Appenzell
GEO:47.330788;9.408760
URL:https://eventfrog.at/de/p/wissenschaft-und-technik/kunsthandwerkerin-im-museum-7439688881404945528.html
END:VEVENT
BEGIN:VEVENT
UID:20260424T072550Z-7439688882134755516@eventfrog.at
DTSTAMP:20260424T072550Z
DTSTART:20260619T120000Z
DTEND:20260619T150000Z
SUMMARY:Kunsthandwerkerin im Museum
DESCRIPTION:Kunsthandwerkerin im Museum\n\nhttps://eventfrog.at/de/p/wissenschaft-und-technik/kunsthandwerkerin-im-museum-7439688882134755516.html
LOCATION:Museum Appenzell
GEO:47.330788;9.408760
URL:https://eventfrog.at/de/p/wissenschaft-und-technik/kunsthandwerkerin-im-museum-7439688882134755516.html
END:VEVENT
BEGIN:VEVENT
UID:20260424T072550Z-7439688882868759754@eventfrog.at
DTSTAMP:20260424T072550Z
DTSTART:20260626T120000Z
DTEND:20260626T150000Z
SUMMARY:Kunsthandwerkerin im Museum
DESCRIPTION:Kunsthandwerkerin im Museum\n\nhttps://eventfrog.at/de/p/wissenschaft-und-technik/kunsthandwerkerin-im-museum-7439688882868759754.html
LOCATION:Museum Appenzell
GEO:47.330788;9.408760
URL:https://eventfrog.at/de/p/wissenschaft-und-technik/kunsthandwerkerin-im-museum-7439688882868759754.html
END:VEVENT
END:VCALENDAR