BEGIN:VCALENDAR
VERSION:2.0
PRODID:EVENTFROG//EVENTGROUP//ICAL
BEGIN:VEVENT
UID:20260419T191018Z-7414943413768816863@eventfrog.at
DTSTAMP:20260419T191018Z
DTSTART:20260508T160000Z
DTEND:20260508T190000Z
SUMMARY:Camper & Vanlife Event Messe
DESCRIPTION:Vom 8. bis 10. Mai 2026 zeigt die Camper & Vanlife Messe am Jagdschloss Springe mobile Reise- und Outdoor-Innovationen.\n\nhttps://eventfrog.at/de/p/messen/messe/camper-vanlife-event-messe-7414943413768816863.html
LOCATION:Jagdschloss Springe - Niedersächsische Landesforsten
GEO:52.188995;9.573487
URL:https://eventfrog.at/de/p/messen/messe/camper-vanlife-event-messe-7414943413768816863.html
END:VEVENT
BEGIN:VEVENT
UID:20260419T191018Z-7414944114737717103@eventfrog.at
DTSTAMP:20260419T191018Z
DTSTART:20260509T090000Z
DTEND:20260509T170000Z
SUMMARY:Camper & Vanlife Event Messe
DESCRIPTION:Vom 8. bis 10. Mai 2026 zeigt die Camper & Vanlife Messe am Jagdschloss Springe mobile Reise- und Outdoor-Innovationen.\n\nhttps://eventfrog.at/de/p/messen/messe/camper-vanlife-event-messe-7414944114737717103.html
LOCATION:Jagdschloss Springe - Niedersächsische Landesforsten
GEO:52.188995;9.573487
URL:https://eventfrog.at/de/p/messen/messe/camper-vanlife-event-messe-7414944114737717103.html
END:VEVENT
BEGIN:VEVENT
UID:20260419T191018Z-7414944114901295004@eventfrog.at
DTSTAMP:20260419T191018Z
DTSTART:20260510T080000Z
DTEND:20260510T150000Z
SUMMARY:Camper & Vanlife Event Messe
DESCRIPTION:Vom 8. bis 10. Mai 2026 zeigt die Camper & Vanlife Messe am Jagdschloss Springe mobile Reise- und Outdoor-Innovationen.\n\nhttps://eventfrog.at/de/p/messen/messe/camper-vanlife-event-messe-7414944114901295004.html
LOCATION:Jagdschloss Springe - Niedersächsische Landesforsten
GEO:52.188995;9.573487
URL:https://eventfrog.at/de/p/messen/messe/camper-vanlife-event-messe-7414944114901295004.html
END:VEVENT
END:VCALENDAR