BEGIN:VCALENDAR
VERSION:2.0
PRODID:EVENTFROG//EVENT//ICAL
BEGIN:VEVENT
UID:20260426T021335Z-7453925845993820555@eventfrog.at
DTSTAMP:20260426T021335Z
DTSTART:20260508T140000Z
SUMMARY:Canapé auf Canapé
DESCRIPTION:Canapé auf Canapé\n\nhttps://eventfrog.at/de/p/konzerte/canape-auf-canape-7453925845993820555.html
LOCATION:Portier
GEO:47.495799;8.718806
URL:https://eventfrog.at/de/p/konzerte/canape-auf-canape-7453925845993820555.html
END:VEVENT
END:VCALENDAR