BEGIN:VCALENDAR
VERSION:2.0
PRODID:EVENTFROG//EVENT//ICAL
BEGIN:VEVENT
UID:20260426T035036Z-7453916962801899469@eventfrog.at
DTSTAMP:20260426T035036Z
DTSTART:20260503T100000Z
DTEND:20260503T150000Z
SUMMARY:POP-UP BY THE LAKE
DESCRIPTION:Am 3. Mai lockt POP-UP By The Lake in Rapperswil mit Mode, Lifestyle, Live-DJ und entspanntem Sonntagsflair am See.\n\nhttps://eventfrog.at/en/p/markets/other-markets/pop-up-by-the-lake-7453916962801899469.html
LOCATION:Hotel Schwanen
GEO:47.226197;8.814066
URL:https://eventfrog.at/en/p/markets/other-markets/pop-up-by-the-lake-7453916962801899469.html
END:VEVENT
END:VCALENDAR