BEGIN:VCALENDAR
VERSION:2.0
PRODID:EVENTFROG//EVENT//ICAL
BEGIN:VEVENT
UID:20260426T001548Z-7453871950407950575@eventfrog.at
DTSTAMP:20260426T001548Z
DTSTART:20260503T133000Z
DTEND:20260503T190000Z
SUMMARY:RnB Session
DESCRIPTION:Rnb Session\n\nhttps://eventfrog.at/de/p/partys/rhythm-blues/rnb-session-7453871950407950575.html
LOCATION:SOHO
GEO:47.425440;9.377630
URL:https://eventfrog.at/de/p/partys/rhythm-blues/rnb-session-7453871950407950575.html
END:VEVENT
END:VCALENDAR