BEGIN:VCALENDAR
VERSION:2.0
PRODID:EVENTFROG//EVENT//ICAL
BEGIN:VEVENT
UID:20260425T225201Z-7453835943134364789@eventfrog.at
DTSTAMP:20260425T225201Z
DTSTART:20260620T140000Z
DTEND:20260620T200000Z
SUMMARY:Kammermusikfest "Dialoge"
DESCRIPTION:Renommierte Künstler:innen der Region, Musiker:innen, welche am Beginn ihrer Karriere stehen und Jugendliche stehen gemeinsam auf der Bühne. Dazwischen, Kaffee, Apéro, Dessert mit Prosecco. 16-22Uhr\n\nhttps://eventfrog.at/de/p/klassik-opern/klassik/kammermusikfest-dialoge-7453835943134364789.html
LOCATION:Don Bosco Basel
GEO:47.554234;7.609151
URL:https://eventfrog.at/de/p/klassik-opern/klassik/kammermusikfest-dialoge-7453835943134364789.html
END:VEVENT
END:VCALENDAR