BEGIN:VCALENDAR
VERSION:2.0
PRODID:EVENTFROG//EVENT//ICAL
BEGIN:VEVENT
UID:20260425T210624Z-7453810385101034396@eventfrog.at
DTSTAMP:20260425T210624Z
DTSTART:20260613T130000Z
DTEND:20260614T000000Z
SUMMARY:K-Dream Day - Standmiete / Stall-Booking
DESCRIPTION:Standmiete für den K-Dream Event vom 13. Juni 2026 in der industrie45 in Zug\n\nhttps://eventfrog.at/de/p/festivals/pop-rock/k-dream-day-standmiete-stall-booking-7453810385101034396.html
LOCATION:industrie45
GEO:47.182217;8.520759
URL:https://eventfrog.at/de/p/festivals/pop-rock/k-dream-day-standmiete-stall-booking-7453810385101034396.html
END:VEVENT
END:VCALENDAR