BEGIN:VCALENDAR
VERSION:2.0
PRODID:EVENTFROG//EVENT//ICAL
BEGIN:VEVENT
UID:20260426T041813Z-7453764391336466372@eventfrog.at
DTSTAMP:20260426T041813Z
DTSTART:20260503T180000Z
DTEND:20260503T213000Z
SUMMARY:Open Mic L J Fox (Open Mic for music & more)
DESCRIPTION:Open Mic gibt einen Einblick in die vielfältige, internationale Musikszene Berlins in einer der originellsten Bars in Kreuzberg\n\nhttps://eventfrog.at/de/p/konzerte/indie-alternative/open-mic-l-j-fox-open-mic-for-music-more-7453764391336466372.html
LOCATION:Madame Claude
GEO:52.499615;13.437326
URL:https://eventfrog.at/de/p/konzerte/indie-alternative/open-mic-l-j-fox-open-mic-for-music-more-7453764391336466372.html
END:VEVENT
END:VCALENDAR