BEGIN:VCALENDAR
VERSION:2.0
PRODID:EVENTFROG//EVENT//ICAL
BEGIN:VEVENT
UID:20260426T031925Z-7453728402232575025@eventfrog.at
DTSTAMP:20260426T031925Z
DTSTART:20260522T173000Z
DTEND:20260522T184500Z
SUMMARY:ethereal Soundbath - kristallines Klangbad in Bern
DESCRIPTION:Ein Klangbad mit Kristallklangschalen harmonisiert Körper, Geist und Seele und fördert innere Ruhe und Balance.\n\nhttps://eventfrog.at/de/p/gesundheit-spiritualitaet/gesundheit-wohlbefinden/ethereal-soundbath-kristallines-klangbad-in-bern-7453728402232575025.html
LOCATION:Oase Bern
GEO:46.957107;7.430612
URL:https://eventfrog.at/de/p/gesundheit-spiritualitaet/gesundheit-wohlbefinden/ethereal-soundbath-kristallines-klangbad-in-bern-7453728402232575025.html
END:VEVENT
END:VCALENDAR