BEGIN:VCALENDAR
VERSION:2.0
PRODID:EVENTFROG//EVENT//ICAL
BEGIN:VEVENT
UID:20260426T021204Z-7453719969949316969@eventfrog.at
DTSTAMP:20260426T021204Z
DTSTART:20260523T210000Z
DTEND:20260524T050000Z
SUMMARY:tanzen6000
DESCRIPTION:tanzen6000000000\n\nhttps://eventfrog.at/de/p/partys/house-techno/tanzen6000-7453719969949316969.html
LOCATION:Kauz
GEO:47.381504;8.536924
URL:https://eventfrog.at/de/p/partys/house-techno/tanzen6000-7453719969949316969.html
END:VEVENT
END:VCALENDAR