BEGIN:VCALENDAR
VERSION:2.0
PRODID:EVENTFROG//EVENT//ICAL
BEGIN:VEVENT
UID:20260425T170117Z-7453575425505134543@eventfrog.at
DTSTAMP:20260425T170117Z
DTSTART:20260614T140000Z
DTEND:20260614T170000Z
SUMMARY:Alice im Wunderland - Ballett & Tanzaufführung TABEA GRIMM 2
DESCRIPTION:Am 14. Juni 2026 tanzen über 450 Schüler:innen der TABEA GRIMM Schulen «Alice im Wunderland» in der Jugendstil-Festhalle Landau.\n\nhttps://eventfrog.at/de/p/theater-buehne/tanz/alice-im-wunderland-ballett-tanzauffuehrung-tabea-grimm-2-7453575425505134543.html
LOCATION:Jugendstil-Festhalle
GEO:49.195962;8.120584
URL:https://eventfrog.at/de/p/theater-buehne/tanz/alice-im-wunderland-ballett-tanzauffuehrung-tabea-grimm-2-7453575425505134543.html
END:VEVENT
END:VCALENDAR