BEGIN:VCALENDAR
VERSION:2.0
PRODID:EVENTFROG//EVENT//ICAL
BEGIN:VEVENT
UID:20260425T042600Z-7453562878714456255@eventfrog.at
DTSTAMP:20260425T042600Z
DTSTART:20260430T220000Z
DTEND:20260927T215900Z
SUMMARY:Klemens Pasoldt: "Geister, die ich rief"
DESCRIPTION:Klemens Pasoldt: "Geister, die ich rief"\n\nhttps://eventfrog.at/de/p/kunst-ausstellungen/klemens-pasoldt-geister-die-ich-rief-7453562878714456255.html
LOCATION:Gasthaus Schlosshalde
GEO:47.540082;8.767906
URL:https://eventfrog.at/de/p/kunst-ausstellungen/klemens-pasoldt-geister-die-ich-rief-7453562878714456255.html
END:VEVENT
END:VCALENDAR