BEGIN:VCALENDAR
VERSION:2.0
PRODID:EVENTFROG//EVENT//ICAL
BEGIN:VEVENT
UID:20260425T151327Z-7453558565392937183@eventfrog.at
DTSTAMP:20260425T151327Z
DTSTART:20260618T080000Z
DTEND:20260618T170000Z
SUMMARY:Access Bars Therapy – Deep Mental Reset (Zurich)
DESCRIPTION: Access Bars® sessions in Zurich for deep mental reset, stress relief and better sleep.\n\nhttps://eventfrog.at/en/p/health-spirituality/health-wellbeing/access-bars-therapy-deep-mental-reset-zurich-7453558565392937183.html
LOCATION:To be announced
URL:https://eventfrog.at/en/p/health-spirituality/health-wellbeing/access-bars-therapy-deep-mental-reset-zurich-7453558565392937183.html
END:VEVENT
END:VCALENDAR