BEGIN:VCALENDAR
VERSION:2.0
PRODID:EVENTFROG//EVENT//ICAL
BEGIN:VEVENT
UID:20260425T151326Z-7453558565250330832@eventfrog.at
DTSTAMP:20260425T151326Z
DTSTART:20260616T080000Z
DTEND:20260616T170000Z
SUMMARY:Access Bars Therapy – Deep Mental Reset (Zurich)
DESCRIPTION: Access Bars® sessions in Zurich for deep mental reset, stress relief and better sleep.\n\nhttps://eventfrog.at/en/p/health-spirituality/health-wellbeing/access-bars-therapy-deep-mental-reset-zurich-7453558565250330832.html
LOCATION:To be announced
URL:https://eventfrog.at/en/p/health-spirituality/health-wellbeing/access-bars-therapy-deep-mental-reset-zurich-7453558565250330832.html
END:VEVENT
END:VCALENDAR