BEGIN:VCALENDAR
VERSION:2.0
PRODID:EVENTFROG//EVENT//ICAL
BEGIN:VEVENT
UID:20260425T131913Z-7453544447936100064@eventfrog.at
DTSTAMP:20260425T131913Z
DTSTART:20260427T140000Z
DTEND:20260427T150000Z
SUMMARY:Das Superheldenpuppentheater
DESCRIPTION:Ein Puppentheatergastspiel für die ganze Familie \n\nIn Delbrück auf dem Schützenplatz \nWeitere Infos auf unsere Facebookseite \nKindertheater Corellino \n\nhttps://eventfrog.at/de/p/kinderveranstaltungen/puppentheater/das-superheldenpuppentheater-7453544447936100064.html
LOCATION:Schützenplatz St. Johannes Delbrück
GEO:51.760361;8.568019
URL:https://eventfrog.at/de/p/kinderveranstaltungen/puppentheater/das-superheldenpuppentheater-7453544447936100064.html
END:VEVENT
END:VCALENDAR