BEGIN:VCALENDAR
VERSION:2.0
PRODID:EVENTFROG//EVENT//ICAL
BEGIN:VEVENT
UID:20260425T234602Z-7453458002856656367@eventfrog.at
DTSTAMP:20260425T234602Z
DTSTART:20260502T173000Z
DTEND:20260502T193000Z
SUMMARY:CROWN
DESCRIPTION:CROWN: Christlicher Lobpreis durch Tanz, Malerei, Schreiben & Musik. 3-4x jährlich in Freiburg. / Louange chrétienne par la danse, peinture, écriture & musique. 3-4x par an à Fribourg.\n\nhttps://eventfrog.at/en/p/concerts/other-music-genres/crown-7453458002856656367.html
LOCATION:Pfarrkirche St. German Gurmels
GEO:46.892683;7.171655
URL:https://eventfrog.at/en/p/concerts/other-music-genres/crown-7453458002856656367.html
END:VEVENT
END:VCALENDAR