BEGIN:VCALENDAR
VERSION:2.0
PRODID:EVENTFROG//EVENT//ICAL
BEGIN:VEVENT
UID:20260425T042602Z-7453457936662143471@eventfrog.at
DTSTAMP:20260425T042602Z
DTSTART:20260513T160000Z
DTEND:20260513T170000Z
SUMMARY:FREE Afro Workout Dance Fitness Class in Zürich
DESCRIPTION:Afro dance- inspired Afro Workout class in Zürich! Workout to Afrobeats in a group\n\nhttps://eventfrog.at/de/p/sport-fitness/tanzsport/free-afro-workout-dance-fitness-class-in-zuerich-7453457936662143471.html
LOCATION:BCOLLAB Dance Studio
GEO:47.377818;8.513799
URL:https://eventfrog.at/de/p/sport-fitness/tanzsport/free-afro-workout-dance-fitness-class-in-zuerich-7453457936662143471.html
END:VEVENT
END:VCALENDAR