BEGIN:VCALENDAR
VERSION:2.0
PRODID:EVENTFROG//EVENT//ICAL
BEGIN:VEVENT
UID:20260424T190311Z-7453450617379379823@eventfrog.at
DTSTAMP:20260424T190311Z
DTSTART:20260519T163000Z
SUMMARY:Horizonte – Ausstellungsrundgang mit Kunstschaffenden
DESCRIPTION:Gespräch mit den Künstlerinnen Mireille Gros, Alexandra Meyer, Regula Syz und Verena Thürkauf in der Ausstellung "Hinterm Horizont geht's weiter!"\n\nhttps://eventfrog.at/de/p/kunst-ausstellungen/weitere-kunstveranstaltungen/horizonte-ausstellungsrundgang-mit-kunstschaffenden-7453450617379379823.html
LOCATION:Kunstmuseum Olten
GEO:47.349985;7.901622
URL:https://eventfrog.at/de/p/kunst-ausstellungen/weitere-kunstveranstaltungen/horizonte-ausstellungsrundgang-mit-kunstschaffenden-7453450617379379823.html
END:VEVENT
END:VCALENDAR