BEGIN:VCALENDAR
VERSION:2.0
PRODID:EVENTFROG//EVENT//ICAL
BEGIN:VEVENT
UID:20260424T205126Z-7453443761873393471@eventfrog.at
DTSTAMP:20260424T205126Z
DTSTART:20260519T100000Z
DTEND:20260519T150000Z
SUMMARY:Hinterm Horizont geht's weiter!
DESCRIPTION:In der Gruppenausstellung "Hinterm Horizont geht's weiter!", die einen Song-Titel von Udo Lindenberg aufgreift, beschäftigen sich 55 zeitgenössische Kunstschaffende mit dem Zustand der Welt.\n\nhttps://eventfrog.at/de/p/kunst-ausstellungen/ausstellung/hinterm-horizont-geht-s-weiter-7453443761873393471.html
LOCATION:Kunstmuseum Olten
GEO:47.349985;7.901622
URL:https://eventfrog.at/de/p/kunst-ausstellungen/ausstellung/hinterm-horizont-geht-s-weiter-7453443761873393471.html
END:VEVENT
END:VCALENDAR