BEGIN:VCALENDAR
VERSION:2.0
PRODID:EVENTFROG//EVENT//ICAL
BEGIN:VEVENT
UID:20260424T221916Z-7453438805787300231@eventfrog.at
DTSTAMP:20260424T221916Z
DTSTART:20260614T090000Z
DTEND:20260614T160000Z
SUMMARY:Sammlung Martin und Veronika Burckhardt
DESCRIPTION:Sammlung Martin und Veronika Burckhardt - Von privaten Schätzen und öffentlichem Engagement\nMit Werken der Erbengemeinschaft sowie aus dem Karl August Burckhardt-Koechlin-Fonds im Kupferstichkabinett\n\nhttps://eventfrog.at/de/p/kunst-ausstellungen/ausstellung/sammlung-martin-und-veronika-burckhardt-7453438805787300231.html
LOCATION:FOR ART - eine temporäre Kunstintervention von Littmann Kulturprojekte
GEO:47.555291;7.593660
URL:https://eventfrog.at/de/p/kunst-ausstellungen/ausstellung/sammlung-martin-und-veronika-burckhardt-7453438805787300231.html
END:VEVENT
END:VCALENDAR