BEGIN:VCALENDAR
VERSION:2.0
PRODID:EVENTFROG//EVENT//ICAL
BEGIN:VEVENT
UID:20260426T011326Z-7453438199811068253@eventfrog.at
DTSTAMP:20260426T011326Z
DTSTART:20260501T170000Z
DTEND:20260501T190000Z
SUMMARY:SPIGAR Würdigung seines Schaffens
DESCRIPTION:Der bekannte Rheintaler Künstler SPIGAR stellt im Kulturraum Stellwerk Heerbrugg aus. Unverkennbar sind seine tanzenden Figuren.\n\nhttps://eventfrog.at/de/p/kunst-ausstellungen/kultur/spigar-wuerdigung-seines-schaffens-7453438199811068253.html
LOCATION:Kulturraum Stellwerk Heerbrugg
GEO:47.411361;9.629330
URL:https://eventfrog.at/de/p/kunst-ausstellungen/kultur/spigar-wuerdigung-seines-schaffens-7453438199811068253.html
END:VEVENT
END:VCALENDAR