BEGIN:VCALENDAR
VERSION:2.0
PRODID:EVENTFROG//EVENT//ICAL
BEGIN:VEVENT
UID:20260425T102937Z-7453431005820516183@eventfrog.at
DTSTAMP:20260425T102937Z
DTSTART:20260613T180000Z
SUMMARY:Gemeinschaftskonzert
DESCRIPTION:Musik vereint am Gemeinschaftskonzert. Die Jugendmusik der Seegemeinden, die Musikgesellschaft Vitznau und die Feldmusik Weggis präsentieren abwechslungsreiche und mitreissende Konzertstücke. \n\nhttps://eventfrog.at/de/p/konzerte/blasmusik/gemeinschaftskonzert-7453431005820516183.html
LOCATION:Pavillion Weggis
GEO:47.032011;8.434228
URL:https://eventfrog.at/de/p/konzerte/blasmusik/gemeinschaftskonzert-7453431005820516183.html
END:VEVENT
END:VCALENDAR