BEGIN:VCALENDAR
VERSION:2.0
PRODID:EVENTFROG//EVENT//ICAL
BEGIN:VEVENT
UID:20260425T131455Z-7453425970491468024@eventfrog.at
DTSTAMP:20260425T131455Z
DTSTART:20260524T073000Z
DTEND:20260524T160000Z
SUMMARY:Grosser Preis der Stadt Grenchen
DESCRIPTION:Erleben Sie am 24. Mai 2026 in Grenchen spannende Boccia-Partien und geniessen Sie das mediterrane Flair vor Ort.\n\nhttps://eventfrog.at/de/p/freizeit-ausfluege/sonstige-veranstaltungen/grosser-preis-der-stadt-grenchen-7453425970491468024.html
LOCATION:Bocciaclub Grenchen
GEO:47.183922;7.408059
URL:https://eventfrog.at/de/p/freizeit-ausfluege/sonstige-veranstaltungen/grosser-preis-der-stadt-grenchen-7453425970491468024.html
END:VEVENT
END:VCALENDAR