BEGIN:VCALENDAR
VERSION:2.0
PRODID:EVENTFROG//EVENT//ICAL
BEGIN:VEVENT
UID:20260424T163738Z-7453411645911524182@eventfrog.at
DTSTAMP:20260424T163738Z
DTSTART:20260622T150000Z
DTEND:20260622T171500Z
SUMMARY:Die Spree vor Gericht? - Neue Wege im Naturschutz
DESCRIPTION:Die Initiative „Rechte der Spree“ regt an, die Spree als juristische Person anzuerkennen. Diskutieren Sie mit uns, welche Chancen dieser Ansatz für Naturschutz und den Spreewald bietet.\n\nhttps://eventfrog.at/de/p/politik-gemeinde/politik/die-spree-vor-gericht-neue-wege-im-naturschutz-7453411645911524182.html
LOCATION:Haus der Natur Potsdam
GEO:52.396310;13.051380
URL:https://eventfrog.at/de/p/politik-gemeinde/politik/die-spree-vor-gericht-neue-wege-im-naturschutz-7453411645911524182.html
END:VEVENT
END:VCALENDAR